| Back to Multiple platform build/check report for BioC 3.9 |
|
This page was generated on 2019-10-16 12:32:34 -0400 (Wed, 16 Oct 2019).
| Package 189/1741 | Hostname | OS / Arch | INSTALL | BUILD | CHECK | BUILD BIN | ||||||
| BrowserViz 2.6.0 Paul Shannon
| malbec2 | Linux (Ubuntu 18.04.2 LTS) / x86_64 | OK | OK | OK | |||||||
| tokay2 | Windows Server 2012 R2 Standard / x64 | OK | OK | OK | [ OK ] | |||||||
| celaya2 | OS X 10.11.6 El Capitan / x86_64 | OK | OK | OK | OK |
| Package: BrowserViz |
| Version: 2.6.0 |
| Command: rm -rf BrowserViz.buildbin-libdir && mkdir BrowserViz.buildbin-libdir && C:\Users\biocbuild\bbs-3.9-bioc\R\bin\R.exe CMD INSTALL --merge-multiarch --build --library=BrowserViz.buildbin-libdir BrowserViz_2.6.0.tar.gz |
| StartedAt: 2019-10-16 08:48:58 -0400 (Wed, 16 Oct 2019) |
| EndedAt: 2019-10-16 08:49:27 -0400 (Wed, 16 Oct 2019) |
| EllapsedTime: 29.8 seconds |
| RetCode: 0 |
| Status: OK |
| PackageFile: BrowserViz_2.6.0.zip |
| PackageFileSize: 231.6 KiB |
##############################################################################
##############################################################################
###
### Running command:
###
### rm -rf BrowserViz.buildbin-libdir && mkdir BrowserViz.buildbin-libdir && C:\Users\biocbuild\bbs-3.9-bioc\R\bin\R.exe CMD INSTALL --merge-multiarch --build --library=BrowserViz.buildbin-libdir BrowserViz_2.6.0.tar.gz
###
##############################################################################
##############################################################################
install for i386
* installing *source* package 'BrowserViz' ...
** using staged installation
** R
** inst
** byte-compile and prepare package for lazy loading
** help
*** installing help indices
converting help for package 'BrowserViz'
finding HTML links ... done
BrowserViz-class html
** building package indices
** installing vignettes
** testing if installed package can be loaded from temporary location
** testing if installed package can be loaded from final location
** testing if installed package keeps a record of temporary installation path
install for x64
* installing *source* package 'BrowserViz' ...
** testing if installed package can be loaded
* MD5 sums
packaged installation of 'BrowserViz' as BrowserViz_2.6.0.zip
* DONE (BrowserViz)