| Back to Multiple platform build/check report for BioC 3.9 |
|
This page was generated on 2019-10-16 12:43:27 -0400 (Wed, 16 Oct 2019).
| Package 152/1741 | Hostname | OS / Arch | INSTALL | BUILD | CHECK | BUILD BIN | ||||||
| BiocSingular 1.0.0 Aaron Lun
| malbec2 | Linux (Ubuntu 18.04.2 LTS) / x86_64 | OK | OK | OK | |||||||
| tokay2 | Windows Server 2012 R2 Standard / x64 | [ OK ] | OK | OK | OK | |||||||
| celaya2 | OS X 10.11.6 El Capitan / x86_64 | OK | OK | OK | OK |
| Package: BiocSingular |
| Version: 1.0.0 |
| Command: C:\cygwin\bin\curl.exe -O https://malbec2.bioconductor.org/BBS/3.9/bioc/src/contrib/BiocSingular_1.0.0.tar.gz && rm -rf BiocSingular.buildbin-libdir && mkdir BiocSingular.buildbin-libdir && C:\Users\biocbuild\bbs-3.9-bioc\R\bin\R.exe CMD INSTALL --merge-multiarch --build --library=BiocSingular.buildbin-libdir BiocSingular_1.0.0.tar.gz && C:\Users\biocbuild\bbs-3.9-bioc\R\bin\R.exe CMD INSTALL BiocSingular_1.0.0.zip && rm BiocSingular_1.0.0.tar.gz BiocSingular_1.0.0.zip |
| StartedAt: 2019-10-15 19:31:47 -0400 (Tue, 15 Oct 2019) |
| EndedAt: 2019-10-15 19:33:12 -0400 (Tue, 15 Oct 2019) |
| EllapsedTime: 84.5 seconds |
| RetCode: 0 |
| Status: OK |
##############################################################################
##############################################################################
###
### Running command:
###
### C:\cygwin\bin\curl.exe -O https://malbec2.bioconductor.org/BBS/3.9/bioc/src/contrib/BiocSingular_1.0.0.tar.gz && rm -rf BiocSingular.buildbin-libdir && mkdir BiocSingular.buildbin-libdir && C:\Users\biocbuild\bbs-3.9-bioc\R\bin\R.exe CMD INSTALL --merge-multiarch --build --library=BiocSingular.buildbin-libdir BiocSingular_1.0.0.tar.gz && C:\Users\biocbuild\bbs-3.9-bioc\R\bin\R.exe CMD INSTALL BiocSingular_1.0.0.zip && rm BiocSingular_1.0.0.tar.gz BiocSingular_1.0.0.zip
###
##############################################################################
##############################################################################
% Total % Received % Xferd Average Speed Time Time Time Current
Dload Upload Total Spent Left Speed
0 0 0 0 0 0 0 0 --:--:-- --:--:-- --:--:-- 0
100 28082 100 28082 0 0 364k 0 --:--:-- --:--:-- --:--:-- 403k
install for i386
* installing *source* package 'BiocSingular' ...
** using staged installation
** libs
C:/Rtools/mingw_32/bin/g++ -std=gnu++11 -I"C:/Users/BIOCBU~1/BBS-3~1.9-B/R/include" -DNDEBUG -I"C:/Users/biocbuild/bbs-3.9-bioc/R/library/Rcpp/include" -I"C:/Users/biocbuild/bbs-3.9-bioc/R/library/beachmat/include" -I"C:/extsoft/include" -O2 -Wall -mtune=generic -c RcppExports.cpp -o RcppExports.o
C:/Rtools/mingw_32/bin/g++ -std=gnu++11 -I"C:/Users/BIOCBU~1/BBS-3~1.9-B/R/include" -DNDEBUG -I"C:/Users/biocbuild/bbs-3.9-bioc/R/library/Rcpp/include" -I"C:/Users/biocbuild/bbs-3.9-bioc/R/library/beachmat/include" -I"C:/extsoft/include" -O2 -Wall -mtune=generic -c compute_scale.cpp -o compute_scale.o
compute_scale.cpp: In instantiation of 'Rcpp::NumericVector compute_scale_internal(Rcpp::RObject, Rcpp::RObject) [with M = beachmat::lin_matrix >; Rcpp::NumericVector = Rcpp::Vector<14, Rcpp::PreserveStorage>; Rcpp::RObject = Rcpp::RObject_Impl]':
compute_scale.cpp:60:79: required from here
compute_scale.cpp:21:35: warning: comparison between signed and unsigned integer expressions [-Wsign-compare]
if (numeric_centers.size()!=ncols) {
^
compute_scale.cpp: In instantiation of 'Rcpp::NumericVector compute_scale_internal(Rcpp::RObject, Rcpp::RObject) [with M = beachmat::lin_matrix >; Rcpp::NumericVector = Rcpp::Vector<14, Rcpp::PreserveStorage>; Rcpp::RObject = Rcpp::RObject_Impl]':
compute_scale.cpp:62:79: required from here
compute_scale.cpp:21:35: warning: comparison between signed and unsigned integer expressions [-Wsign-compare]
C:/Rtools/mingw_32/bin/g++ -shared -s -static-libgcc -o BiocSingular.dll tmp.def RcppExports.o compute_scale.o -LC:/extsoft/lib/i386 -LC:/extsoft/lib -LC:/Users/BIOCBU~1/BBS-3~1.9-B/R/bin/i386 -lR
installing to C:/Users/biocbuild/bbs-3.9-bioc/meat/BiocSingular.buildbin-libdir/00LOCK-BiocSingular/00new/BiocSingular/libs/i386
** R
** byte-compile and prepare package for lazy loading
** help
*** installing help indices
converting help for package 'BiocSingular'
finding HTML links ... done
BiocSingularParam html
DeferredMatrix html
finding level-2 HTML links ... done
LowRankMatrix html
options html
runExactSVD html
runIrlbaSVD html
runPCA html
runRandomSVD html
runSVD html
** building package indices
** installing vignettes
** testing if installed package can be loaded from temporary location
** testing if installed package can be loaded from final location
** testing if installed package keeps a record of temporary installation path
install for x64
* installing *source* package 'BiocSingular' ...
** libs
C:/Rtools/mingw_64/bin/g++ -std=gnu++11 -I"C:/Users/BIOCBU~1/BBS-3~1.9-B/R/include" -DNDEBUG -I"C:/Users/biocbuild/bbs-3.9-bioc/R/library/Rcpp/include" -I"C:/Users/biocbuild/bbs-3.9-bioc/R/library/beachmat/include" -I"C:/extsoft/include" -O2 -Wall -mtune=generic -c RcppExports.cpp -o RcppExports.o
C:/Rtools/mingw_64/bin/g++ -std=gnu++11 -I"C:/Users/BIOCBU~1/BBS-3~1.9-B/R/include" -DNDEBUG -I"C:/Users/biocbuild/bbs-3.9-bioc/R/library/Rcpp/include" -I"C:/Users/biocbuild/bbs-3.9-bioc/R/library/beachmat/include" -I"C:/extsoft/include" -O2 -Wall -mtune=generic -c compute_scale.cpp -o compute_scale.o
compute_scale.cpp: In instantiation of 'Rcpp::NumericVector compute_scale_internal(Rcpp::RObject, Rcpp::RObject) [with M = beachmat::lin_matrix >; Rcpp::NumericVector = Rcpp::Vector<14, Rcpp::PreserveStorage>; Rcpp::RObject = Rcpp::RObject_Impl]':
compute_scale.cpp:60:79: required from here
compute_scale.cpp:21:35: warning: comparison between signed and unsigned integer expressions [-Wsign-compare]
if (numeric_centers.size()!=ncols) {
^
compute_scale.cpp: In instantiation of 'Rcpp::NumericVector compute_scale_internal(Rcpp::RObject, Rcpp::RObject) [with M = beachmat::lin_matrix >; Rcpp::NumericVector = Rcpp::Vector<14, Rcpp::PreserveStorage>; Rcpp::RObject = Rcpp::RObject_Impl]':
compute_scale.cpp:62:79: required from here
compute_scale.cpp:21:35: warning: comparison between signed and unsigned integer expressions [-Wsign-compare]
C:/Rtools/mingw_64/bin/g++ -shared -s -static-libgcc -o BiocSingular.dll tmp.def RcppExports.o compute_scale.o -LC:/extsoft/lib/x64 -LC:/extsoft/lib -LC:/Users/BIOCBU~1/BBS-3~1.9-B/R/bin/x64 -lR
installing to C:/Users/biocbuild/bbs-3.9-bioc/meat/BiocSingular.buildbin-libdir/BiocSingular/libs/x64
** testing if installed package can be loaded
* MD5 sums
packaged installation of 'BiocSingular' as BiocSingular_1.0.0.zip
* DONE (BiocSingular)
* installing to library 'C:/Users/biocbuild/bbs-3.9-bioc/R/library'
package 'BiocSingular' successfully unpacked and MD5 sums checked