| Back to Multiple platform build/check report for BioC 3.9 |
|
This page was generated on 2019-10-16 12:42:21 -0400 (Wed, 16 Oct 2019).
| Package 151/1741 | Hostname | OS / Arch | INSTALL | BUILD | CHECK | BUILD BIN | ||||||
| BiocPkgTools 1.2.0 Sean Davis
| malbec2 | Linux (Ubuntu 18.04.2 LTS) / x86_64 | OK | OK | OK | |||||||
| tokay2 | Windows Server 2012 R2 Standard / x64 | [ OK ] | OK | OK | OK | |||||||
| celaya2 | OS X 10.11.6 El Capitan / x86_64 | OK | OK | OK | OK |
| Package: BiocPkgTools |
| Version: 1.2.0 |
| Command: C:\cygwin\bin\curl.exe -O https://malbec2.bioconductor.org/BBS/3.9/bioc/src/contrib/BiocPkgTools_1.2.0.tar.gz && rm -rf BiocPkgTools.buildbin-libdir && mkdir BiocPkgTools.buildbin-libdir && C:\Users\biocbuild\bbs-3.9-bioc\R\bin\R.exe CMD INSTALL --merge-multiarch --build --library=BiocPkgTools.buildbin-libdir BiocPkgTools_1.2.0.tar.gz && C:\Users\biocbuild\bbs-3.9-bioc\R\bin\R.exe CMD INSTALL BiocPkgTools_1.2.0.zip && rm BiocPkgTools_1.2.0.tar.gz BiocPkgTools_1.2.0.zip |
| StartedAt: 2019-10-15 19:48:22 -0400 (Tue, 15 Oct 2019) |
| EndedAt: 2019-10-15 19:49:41 -0400 (Tue, 15 Oct 2019) |
| EllapsedTime: 78.8 seconds |
| RetCode: 0 |
| Status: OK |
##############################################################################
##############################################################################
###
### Running command:
###
### C:\cygwin\bin\curl.exe -O https://malbec2.bioconductor.org/BBS/3.9/bioc/src/contrib/BiocPkgTools_1.2.0.tar.gz && rm -rf BiocPkgTools.buildbin-libdir && mkdir BiocPkgTools.buildbin-libdir && C:\Users\biocbuild\bbs-3.9-bioc\R\bin\R.exe CMD INSTALL --merge-multiarch --build --library=BiocPkgTools.buildbin-libdir BiocPkgTools_1.2.0.tar.gz && C:\Users\biocbuild\bbs-3.9-bioc\R\bin\R.exe CMD INSTALL BiocPkgTools_1.2.0.zip && rm BiocPkgTools_1.2.0.tar.gz BiocPkgTools_1.2.0.zip
###
##############################################################################
##############################################################################
% Total % Received % Xferd Average Speed Time Time Time Current
Dload Upload Total Spent Left Speed
0 0 0 0 0 0 0 0 --:--:-- --:--:-- --:--:-- 0
100 258k 100 258k 0 0 2307k 0 --:--:-- --:--:-- --:--:-- 2464k
install for i386
* installing *source* package 'BiocPkgTools' ...
** using staged installation
** R
** inst
** byte-compile and prepare package for lazy loading
** help
*** installing help indices
converting help for package 'BiocPkgTools'
finding HTML links ... done
BiocPkgTools html
biocBuildEmail html
biocBuildReport html
biocDownloadStats html
biocExplore html
biocPkgList html
buildPkgDependencyDataFrame html
buildPkgDependencyIgraph html
dataciteXMLGenerate html
firstInBioc html
generateBiocPkgDOI html
getBiocVignette html
getPackageInfo html
get_bioc_data html
githubDetails html
githubURLParts html
inducedSubgraphByPkgs html
problemPage html
subgraphByDegree html
** building package indices
** installing vignettes
** testing if installed package can be loaded from temporary location
** testing if installed package can be loaded from final location
** testing if installed package keeps a record of temporary installation path
install for x64
* installing *source* package 'BiocPkgTools' ...
** testing if installed package can be loaded
* MD5 sums
packaged installation of 'BiocPkgTools' as BiocPkgTools_1.2.0.zip
* DONE (BiocPkgTools)
* installing to library 'C:/Users/biocbuild/bbs-3.9-bioc/R/library'
package 'BiocPkgTools' successfully unpacked and MD5 sums checked