| Back to Multiple platform build/check report for BioC 3.9 |
|
This page was generated on 2019-10-16 13:04:18 -0400 (Wed, 16 Oct 2019).
| Package 161/1741 | Hostname | OS / Arch | INSTALL | BUILD | CHECK | BUILD BIN | ||||||
| BioMM 1.0.0 Junfang Chen
| malbec2 | Linux (Ubuntu 18.04.2 LTS) / x86_64 | OK | OK | OK | |||||||
| tokay2 | Windows Server 2012 R2 Standard / x64 | OK | OK | OK | OK | |||||||
| celaya2 | OS X 10.11.6 El Capitan / x86_64 | OK | OK | [ OK ] | OK |
| Package: BioMM |
| Version: 1.0.0 |
| Command: /Library/Frameworks/R.framework/Versions/Current/Resources/bin/R CMD check --install=check:BioMM.install-out.txt --library=/Library/Frameworks/R.framework/Versions/Current/Resources/library --no-vignettes --timings BioMM_1.0.0.tar.gz |
| StartedAt: 2019-10-16 00:57:51 -0400 (Wed, 16 Oct 2019) |
| EndedAt: 2019-10-16 01:00:52 -0400 (Wed, 16 Oct 2019) |
| EllapsedTime: 180.1 seconds |
| RetCode: 0 |
| Status: OK |
| CheckDir: BioMM.Rcheck |
| Warnings: 0 |
##############################################################################
##############################################################################
###
### Running command:
###
### /Library/Frameworks/R.framework/Versions/Current/Resources/bin/R CMD check --install=check:BioMM.install-out.txt --library=/Library/Frameworks/R.framework/Versions/Current/Resources/library --no-vignettes --timings BioMM_1.0.0.tar.gz
###
##############################################################################
##############################################################################
* using log directory ‘/Users/biocbuild/bbs-3.9-bioc/meat/BioMM.Rcheck’
* using R version 3.6.1 (2019-07-05)
* using platform: x86_64-apple-darwin15.6.0 (64-bit)
* using session charset: UTF-8
* using option ‘--no-vignettes’
* checking for file ‘BioMM/DESCRIPTION’ ... OK
* checking extension type ... Package
* this is package ‘BioMM’ version ‘1.0.0’
* package encoding: UTF-8
* checking package namespace information ... OK
* checking package dependencies ... OK
* checking if this is a source package ... OK
* checking if there is a namespace ... OK
* checking for hidden files and directories ... OK
* checking for portable file names ... OK
* checking for sufficient/correct file permissions ... OK
* checking whether package ‘BioMM’ can be installed ... OK
* checking installed package size ... OK
* checking package directory ... OK
* checking ‘build’ directory ... OK
* checking DESCRIPTION meta-information ... OK
* checking top-level files ... OK
* checking for left-over files ... OK
* checking index information ... OK
* checking package subdirectories ... OK
* checking R files for non-ASCII characters ... OK
* checking R files for syntax errors ... OK
* checking whether the package can be loaded ... OK
* checking whether the package can be loaded with stated dependencies ... OK
* checking whether the package can be unloaded cleanly ... OK
* checking whether the namespace can be loaded with stated dependencies ... OK
* checking whether the namespace can be unloaded cleanly ... OK
* checking dependencies in R code ... OK
* checking S3 generic/method consistency ... OK
* checking replacement functions ... OK
* checking foreign function calls ... OK
* checking R code for possible problems ... OK
* checking Rd files ... OK
* checking Rd metadata ... OK
* checking Rd cross-references ... OK
* checking for missing documentation entries ... OK
* checking for code/documentation mismatches ... OK
* checking Rd \usage sections ... OK
* checking Rd contents ... OK
* checking for unstated dependencies in examples ... OK
* checking files in ‘vignettes’ ... OK
* checking examples ... OK
Examples with CPU or elapsed time > 5s
user system elapsed
predByCV 35.879 17.170 3.196
BioMMstage1pca 8.502 6.472 5.044
getMetrics 5.764 3.507 2.281
predByBS 1.114 0.592 6.057
* checking for unstated dependencies in ‘tests’ ... OK
* checking tests ...
Running ‘runTest.R’
OK
* checking for unstated dependencies in vignettes ... OK
* checking package vignettes in ‘inst/doc’ ... OK
* checking running R code from vignettes ... SKIPPED
* checking re-building of vignette outputs ... SKIPPED
* checking PDF version of manual ... OK
* DONE
Status: OK
BioMM.Rcheck/00install.out
############################################################################## ############################################################################## ### ### Running command: ### ### /Library/Frameworks/R.framework/Versions/Current/Resources/bin/R CMD INSTALL BioMM ### ############################################################################## ############################################################################## * installing to library ‘/Library/Frameworks/R.framework/Versions/3.6/Resources/library’ * installing *source* package ‘BioMM’ ... ** using staged installation ** R ** inst ** byte-compile and prepare package for lazy loading ** help *** installing help indices ** building package indices ** installing vignettes ** testing if installed package can be loaded from temporary location ** testing if installed package can be loaded from final location ** testing if installed package keeps a record of temporary installation path * DONE (BioMM)
BioMM.Rcheck/tests/runTest.Rout
R version 3.6.1 (2019-07-05) -- "Action of the Toes"
Copyright (C) 2019 The R Foundation for Statistical Computing
Platform: x86_64-apple-darwin15.6.0 (64-bit)
R is free software and comes with ABSOLUTELY NO WARRANTY.
You are welcome to redistribute it under certain conditions.
Type 'license()' or 'licence()' for distribution details.
R is a collaborative project with many contributors.
Type 'contributors()' for more information and
'citation()' on how to cite R or R packages in publications.
Type 'demo()' for some demos, 'help()' for on-line help, or
'help.start()' for an HTML browser interface to help.
Type 'q()' to quit R.
> BiocGenerics:::testPackage("BioMM")
RUNIT TEST PROTOCOL -- Wed Oct 16 01:00:43 2019
***********************************************
Number of test functions: 2
Number of errors: 0
Number of failures: 0
1 Test Suite :
BioMM RUnit Tests - 2 test functions, 0 errors, 0 failures
Number of test functions: 2
Number of errors: 0
Number of failures: 0
>
> proc.time()
user system elapsed
6.825 0.841 7.575
BioMM.Rcheck/BioMM-Ex.timings
| name | user | system | elapsed | |
| BioMM | 0.333 | 0.033 | 0.369 | |
| BioMMreconData | 0.544 | 0.059 | 0.603 | |
| BioMMstage1pca | 8.502 | 6.472 | 5.044 | |
| baseGLMnet | 1.454 | 0.304 | 1.757 | |
| baseModel | 0.740 | 0.112 | 0.796 | |
| baseRandForest | 0.705 | 0.067 | 0.709 | |
| baseSVM | 2.141 | 0.124 | 2.265 | |
| classifiACC | 0.721 | 0.206 | 1.814 | |
| getDataAfterFS | 2.235 | 0.280 | 2.515 | |
| getMetrics | 5.764 | 3.507 | 2.281 | |
| omics2chrlist | 0.449 | 0.077 | 0.526 | |
| omics2genelist | 0.240 | 0.021 | 0.261 | |
| omics2pathlist | 0.612 | 0.073 | 0.686 | |
| predByBS | 1.114 | 0.592 | 6.057 | |
| predByCV | 35.879 | 17.170 | 3.196 | |
| predByFS | 1.721 | 1.512 | 1.682 | |