| Back to Multiple platform build/check report for BioC 3.9 |
|
This page was generated on 2019-10-16 12:22:47 -0400 (Wed, 16 Oct 2019).
| Package 197/1741 | Hostname | OS / Arch | INSTALL | BUILD | CHECK | BUILD BIN | ||||||
| BUS 1.40.0 Yuanhua Liu
| malbec2 | Linux (Ubuntu 18.04.2 LTS) / x86_64 | OK | OK | OK | |||||||
| tokay2 | Windows Server 2012 R2 Standard / x64 | OK | OK | OK | [ OK ] | |||||||
| celaya2 | OS X 10.11.6 El Capitan / x86_64 | OK | OK | OK | OK |
| Package: BUS |
| Version: 1.40.0 |
| Command: rm -rf BUS.buildbin-libdir && mkdir BUS.buildbin-libdir && C:\Users\biocbuild\bbs-3.9-bioc\R\bin\R.exe CMD INSTALL --merge-multiarch --build --library=BUS.buildbin-libdir BUS_1.40.0.tar.gz |
| StartedAt: 2019-10-16 08:49:27 -0400 (Wed, 16 Oct 2019) |
| EndedAt: 2019-10-16 08:49:53 -0400 (Wed, 16 Oct 2019) |
| EllapsedTime: 26.1 seconds |
| RetCode: 0 |
| Status: OK |
| PackageFile: BUS_1.40.0.zip |
| PackageFileSize: 2.283 MiB |
##############################################################################
##############################################################################
###
### Running command:
###
### rm -rf BUS.buildbin-libdir && mkdir BUS.buildbin-libdir && C:\Users\biocbuild\bbs-3.9-bioc\R\bin\R.exe CMD INSTALL --merge-multiarch --build --library=BUS.buildbin-libdir BUS_1.40.0.tar.gz
###
##############################################################################
##############################################################################
install for i386
* installing *source* package 'BUS' ...
** using staged installation
** libs
C:/Rtools/mingw_32/bin/g++ -I"C:/Users/BIOCBU~1/BBS-3~1.9-B/R/include" -DNDEBUG -I"C:/extsoft/include" -O2 -Wall -mtune=generic -c BUS.cpp -o BUS.o
C:/Rtools/mingw_32/bin/g++ -shared -s -static-libgcc -o BUS.dll tmp.def BUS.o -LC:/extsoft/lib/i386 -LC:/extsoft/lib -LC:/Users/BIOCBU~1/BBS-3~1.9-B/R/bin/i386 -lR
installing to C:/Users/biocbuild/bbs-3.9-bioc/meat/BUS.buildbin-libdir/00LOCK-BUS/00new/BUS/libs/i386
** R
** data
** inst
** byte-compile and prepare package for lazy loading
** help
*** installing help indices
converting help for package 'BUS'
finding HTML links ... done
BUS-package html
BUS html
copasi html
gene.pvalue html
gene.similarity html
gene.trait.pvalue html
gene.trait.similarity html
pred.network html
tumors.mRNA html
tumors.miRNA html
** building package indices
** installing vignettes
** testing if installed package can be loaded from temporary location
** testing if installed package can be loaded from final location
** testing if installed package keeps a record of temporary installation path
install for x64
* installing *source* package 'BUS' ...
** libs
C:/Rtools/mingw_64/bin/g++ -I"C:/Users/BIOCBU~1/BBS-3~1.9-B/R/include" -DNDEBUG -I"C:/extsoft/include" -O2 -Wall -mtune=generic -c BUS.cpp -o BUS.o
C:/Rtools/mingw_64/bin/g++ -shared -s -static-libgcc -o BUS.dll tmp.def BUS.o -LC:/extsoft/lib/x64 -LC:/extsoft/lib -LC:/Users/BIOCBU~1/BBS-3~1.9-B/R/bin/x64 -lR
installing to C:/Users/biocbuild/bbs-3.9-bioc/meat/BUS.buildbin-libdir/BUS/libs/x64
** testing if installed package can be loaded
* MD5 sums
packaged installation of 'BUS' as BUS_1.40.0.zip
* DONE (BUS)