| Back to Multiple platform build/check report for BioC 3.9 |
|
This page was generated on 2019-10-16 12:10:01 -0400 (Wed, 16 Oct 2019).
| Package 181/1741 | Hostname | OS / Arch | INSTALL | BUILD | CHECK | BUILD BIN | ||||||
| BPRMeth 1.10.0 Chantriolnt-Andreas Kapourani
| malbec2 | Linux (Ubuntu 18.04.2 LTS) / x86_64 | OK | OK | [ OK ] | |||||||
| tokay2 | Windows Server 2012 R2 Standard / x64 | OK | OK | OK | OK | |||||||
| celaya2 | OS X 10.11.6 El Capitan / x86_64 | OK | OK | OK | OK |
| Package: BPRMeth |
| Version: 1.10.0 |
| Command: /home/biocbuild/bbs-3.9-bioc/R/bin/R CMD check --install=check:BPRMeth.install-out.txt --library=/home/biocbuild/bbs-3.9-bioc/R/library --no-vignettes --timings BPRMeth_1.10.0.tar.gz |
| StartedAt: 2019-10-16 00:10:41 -0400 (Wed, 16 Oct 2019) |
| EndedAt: 2019-10-16 00:13:20 -0400 (Wed, 16 Oct 2019) |
| EllapsedTime: 159.2 seconds |
| RetCode: 0 |
| Status: OK |
| CheckDir: BPRMeth.Rcheck |
| Warnings: 0 |
##############################################################################
##############################################################################
###
### Running command:
###
### /home/biocbuild/bbs-3.9-bioc/R/bin/R CMD check --install=check:BPRMeth.install-out.txt --library=/home/biocbuild/bbs-3.9-bioc/R/library --no-vignettes --timings BPRMeth_1.10.0.tar.gz
###
##############################################################################
##############################################################################
* using log directory ‘/home/biocbuild/bbs-3.9-bioc/meat/BPRMeth.Rcheck’
* using R version 3.6.1 (2019-07-05)
* using platform: x86_64-pc-linux-gnu (64-bit)
* using session charset: UTF-8
* using option ‘--no-vignettes’
* checking for file ‘BPRMeth/DESCRIPTION’ ... OK
* checking extension type ... Package
* this is package ‘BPRMeth’ version ‘1.10.0’
* checking package namespace information ... OK
* checking package dependencies ... OK
* checking if this is a source package ... OK
* checking if there is a namespace ... OK
* checking for hidden files and directories ... OK
* checking for portable file names ... OK
* checking for sufficient/correct file permissions ... OK
* checking whether package ‘BPRMeth’ can be installed ... OK
* checking installed package size ... NOTE
installed size is 5.3Mb
sub-directories of 1Mb or more:
extdata 1.5Mb
libs 2.0Mb
* checking package directory ... OK
* checking ‘build’ directory ... OK
* checking DESCRIPTION meta-information ... OK
* checking top-level files ... NOTE
File
LICENSE
is not mentioned in the DESCRIPTION file.
* checking for left-over files ... OK
* checking index information ... OK
* checking package subdirectories ... OK
* checking R files for non-ASCII characters ... OK
* checking R files for syntax errors ... OK
* checking whether the package can be loaded ... OK
* checking whether the package can be loaded with stated dependencies ... OK
* checking whether the package can be unloaded cleanly ... OK
* checking whether the namespace can be loaded with stated dependencies ... OK
* checking whether the namespace can be unloaded cleanly ... OK
* checking dependencies in R code ... NOTE
Namespace in Imports field not imported from: ‘BiocStyle’
All declared Imports should be used.
* checking S3 generic/method consistency ... OK
* checking replacement functions ... OK
* checking foreign function calls ... OK
* checking R code for possible problems ... OK
* checking Rd files ... OK
* checking Rd metadata ... OK
* checking Rd cross-references ... OK
* checking for missing documentation entries ... OK
* checking for code/documentation mismatches ... OK
* checking Rd \usage sections ... OK
* checking Rd contents ... OK
* checking for unstated dependencies in examples ... OK
* checking contents of ‘data’ directory ... OK
* checking data for non-ASCII characters ... OK
* checking data for ASCII and uncompressed saves ... OK
* checking line endings in C/C++/Fortran sources/headers ... OK
* checking line endings in Makefiles ... OK
* checking compilation flags in Makevars ... OK
* checking for GNU extensions in Makefiles ... OK
* checking for portable use of $(BLAS_LIBS) and $(LAPACK_LIBS) ... OK
* checking compiled code ... NOTE
Note: information on .o files is not available
* checking files in ‘vignettes’ ... OK
* checking examples ... OK
Examples with CPU or elapsed time > 5s
user system elapsed
old_boxplot_cluster_gex 5.994 0.000 5.993
boxplot_cluster_expr 5.074 0.056 4.524
cluster_profiles_mle 5.022 0.008 5.029
* checking for unstated dependencies in ‘tests’ ... OK
* checking tests ...
Running ‘testthat.R’
OK
* checking for unstated dependencies in vignettes ... OK
* checking package vignettes in ‘inst/doc’ ... OK
* checking running R code from vignettes ... SKIPPED
* checking re-building of vignette outputs ... SKIPPED
* checking PDF version of manual ... OK
* DONE
Status: 4 NOTEs
See
‘/home/biocbuild/bbs-3.9-bioc/meat/BPRMeth.Rcheck/00check.log’
for details.
BPRMeth.Rcheck/00install.out
############################################################################## ############################################################################## ### ### Running command: ### ### /home/biocbuild/bbs-3.9-bioc/R/bin/R CMD INSTALL BPRMeth ### ############################################################################## ############################################################################## * installing to library ‘/home/biocbuild/bbs-3.9-bioc/R/library’ * installing *source* package ‘BPRMeth’ ... ** using staged installation ** libs g++ -std=gnu++11 -I"/home/biocbuild/bbs-3.9-bioc/R/include" -DNDEBUG -I"/home/biocbuild/bbs-3.9-bioc/R/library/Rcpp/include" -I"/home/biocbuild/bbs-3.9-bioc/R/library/RcppArmadillo/include" -I/usr/local/include -fopenmp -fpic -g -O2 -Wall -c RcppExports.cpp -o RcppExports.o g++ -std=gnu++11 -I"/home/biocbuild/bbs-3.9-bioc/R/include" -DNDEBUG -I"/home/biocbuild/bbs-3.9-bioc/R/library/Rcpp/include" -I"/home/biocbuild/bbs-3.9-bioc/R/library/RcppArmadillo/include" -I/usr/local/include -fopenmp -fpic -g -O2 -Wall -c model_likelihood.cpp -o model_likelihood.o g++ -std=gnu++11 -shared -L/home/biocbuild/bbs-3.9-bioc/R/lib -L/usr/local/lib -o BPRMeth.so RcppExports.o model_likelihood.o -fopenmp -L/home/biocbuild/bbs-3.9-bioc/R/lib -lRlapack -L/home/biocbuild/bbs-3.9-bioc/R/lib -lRblas -lgfortran -lm -lquadmath -L/home/biocbuild/bbs-3.9-bioc/R/lib -lR installing to /home/biocbuild/bbs-3.9-bioc/R/library/00LOCK-BPRMeth/00new/BPRMeth/libs ** R ** data *** moving datasets to lazyload DB ** inst ** byte-compile and prepare package for lazy loading ** help *** installing help indices ** building package indices ** installing vignettes ** testing if installed package can be loaded from temporary location ** checking absolute paths in shared objects and dynamic libraries ** testing if installed package can be loaded from final location ** testing if installed package keeps a record of temporary installation path * DONE (BPRMeth)
BPRMeth.Rcheck/tests/testthat.Rout
R version 3.6.1 (2019-07-05) -- "Action of the Toes"
Copyright (C) 2019 The R Foundation for Statistical Computing
Platform: x86_64-pc-linux-gnu (64-bit)
R is free software and comes with ABSOLUTELY NO WARRANTY.
You are welcome to redistribute it under certain conditions.
Type 'license()' or 'licence()' for distribution details.
R is a collaborative project with many contributors.
Type 'contributors()' for more information and
'citation()' on how to cite R or R packages in publications.
Type 'demo()' for some demos, 'help()' for on-line help, or
'help.start()' for an HTML browser interface to help.
Type 'q()' to quit R.
> library(testthat)
> library(BPRMeth)
Loading required package: GenomicRanges
Loading required package: stats4
Loading required package: BiocGenerics
Loading required package: parallel
Attaching package: 'BiocGenerics'
The following objects are masked from 'package:parallel':
clusterApply, clusterApplyLB, clusterCall, clusterEvalQ,
clusterExport, clusterMap, parApply, parCapply, parLapply,
parLapplyLB, parRapply, parSapply, parSapplyLB
The following objects are masked from 'package:stats':
IQR, mad, sd, var, xtabs
The following objects are masked from 'package:base':
Filter, Find, Map, Position, Reduce, anyDuplicated, append,
as.data.frame, basename, cbind, colnames, dirname, do.call,
duplicated, eval, evalq, get, grep, grepl, intersect, is.unsorted,
lapply, mapply, match, mget, order, paste, pmax, pmax.int, pmin,
pmin.int, rank, rbind, rownames, sapply, setdiff, sort, table,
tapply, union, unique, unsplit, which, which.max, which.min
Loading required package: S4Vectors
Attaching package: 'S4Vectors'
The following object is masked from 'package:base':
expand.grid
Loading required package: IRanges
Loading required package: GenomeInfoDb
>
> test_check("BPRMeth")
══ testthat results ═══════════════════════════════════════════════════════════
[ OK: 70 | SKIPPED: 0 | WARNINGS: 0 | FAILED: 0 ]
>
> proc.time()
user system elapsed
5.107 0.244 5.338
BPRMeth.Rcheck/BPRMeth-Ex.timings
| name | user | system | elapsed | |
| boxplot_cluster_expr | 5.074 | 0.056 | 4.524 | |
| bpr_cluster_wrap | 4.203 | 0.004 | 4.207 | |
| bpr_optimize | 1.401 | 0.000 | 1.404 | |
| bpr_predict_wrap | 0.914 | 0.000 | 0.913 | |
| cluster_profiles_mle | 5.022 | 0.008 | 5.029 | |
| cluster_profiles_vb | 3.602 | 0.004 | 3.605 | |
| create_anno_region | 0.115 | 0.000 | 0.096 | |
| create_basis | 0.002 | 0.000 | 0.002 | |
| create_region_object | 0.001 | 0.000 | 0.000 | |
| design_matrix | 0.003 | 0.000 | 0.003 | |
| eval_functions | 0.005 | 0.000 | 0.005 | |
| infer_profiles_gibbs | 3.500 | 0.016 | 3.516 | |
| infer_profiles_mle | 2.038 | 0.000 | 2.038 | |
| infer_profiles_vb | 3.303 | 0.000 | 3.303 | |
| inner_predict_model_expr | 0.01 | 0.00 | 0.01 | |
| inner_train_model_expr | 0.029 | 0.000 | 0.030 | |
| old_boxplot_cluster_gex | 5.994 | 0.000 | 5.993 | |
| old_plot_cluster_prof | 4.009 | 0.000 | 4.008 | |
| old_plot_fitted_profiles | 0.786 | 0.000 | 0.785 | |
| plot_cluster_profiles | 3.956 | 0.020 | 3.976 | |
| plot_infer_profiles | 2.279 | 0.000 | 2.279 | |
| plot_predicted_expr | 2.998 | 0.000 | 2.387 | |
| pool_bs_seq_rep | 0.909 | 0.000 | 0.442 | |
| predict_expr | 2.942 | 0.008 | 2.412 | |
| preprocess_bs_seq | 0.351 | 0.000 | 0.148 | |
| preprocess_final_HTS_data | 0.931 | 0.008 | 0.438 | |
| process_haib_caltech_wrap | 0.931 | 0.004 | 0.491 | |
| read_anno | 0.357 | 0.008 | 0.074 | |
| read_bs_encode_haib | 0.279 | 0.000 | 0.081 | |
| read_chrom_size | 0.177 | 0.004 | 0.044 | |
| read_expr | 0.002 | 0.000 | 0.010 | |
| read_met | 0.218 | 0.004 | 0.055 | |
| read_rna_encode_caltech | 0.456 | 0.008 | 0.184 | |