| Back to Multiple platform build/check report for BioC 3.9 |
|
This page was generated on 2019-10-16 12:21:49 -0400 (Wed, 16 Oct 2019).
| Package 25/1741 | Hostname | OS / Arch | INSTALL | BUILD | CHECK | BUILD BIN | ||||||
| AffyCompatible 1.44.0 Martin Morgan
| malbec2 | Linux (Ubuntu 18.04.2 LTS) / x86_64 | OK | OK | OK | |||||||
| tokay2 | Windows Server 2012 R2 Standard / x64 | [ OK ] | OK | OK | OK | |||||||
| celaya2 | OS X 10.11.6 El Capitan / x86_64 | OK | OK | OK | OK |
| Package: AffyCompatible |
| Version: 1.44.0 |
| Command: C:\cygwin\bin\curl.exe -O https://malbec2.bioconductor.org/BBS/3.9/bioc/src/contrib/AffyCompatible_1.44.0.tar.gz && rm -rf AffyCompatible.buildbin-libdir && mkdir AffyCompatible.buildbin-libdir && C:\Users\biocbuild\bbs-3.9-bioc\R\bin\R.exe CMD INSTALL --merge-multiarch --build --library=AffyCompatible.buildbin-libdir AffyCompatible_1.44.0.tar.gz && C:\Users\biocbuild\bbs-3.9-bioc\R\bin\R.exe CMD INSTALL AffyCompatible_1.44.0.zip && rm AffyCompatible_1.44.0.tar.gz AffyCompatible_1.44.0.zip |
| StartedAt: 2019-10-15 19:36:18 -0400 (Tue, 15 Oct 2019) |
| EndedAt: 2019-10-15 19:37:55 -0400 (Tue, 15 Oct 2019) |
| EllapsedTime: 97.0 seconds |
| RetCode: 0 |
| Status: OK |
##############################################################################
##############################################################################
###
### Running command:
###
### C:\cygwin\bin\curl.exe -O https://malbec2.bioconductor.org/BBS/3.9/bioc/src/contrib/AffyCompatible_1.44.0.tar.gz && rm -rf AffyCompatible.buildbin-libdir && mkdir AffyCompatible.buildbin-libdir && C:\Users\biocbuild\bbs-3.9-bioc\R\bin\R.exe CMD INSTALL --merge-multiarch --build --library=AffyCompatible.buildbin-libdir AffyCompatible_1.44.0.tar.gz && C:\Users\biocbuild\bbs-3.9-bioc\R\bin\R.exe CMD INSTALL AffyCompatible_1.44.0.zip && rm AffyCompatible_1.44.0.tar.gz AffyCompatible_1.44.0.zip
###
##############################################################################
##############################################################################
% Total % Received % Xferd Average Speed Time Time Time Current
Dload Upload Total Spent Left Speed
0 0 0 0 0 0 0 0 --:--:-- --:--:-- --:--:-- 0
0 74108 0 0 0 0 0 0 --:--:-- --:--:-- --:--:-- 0
100 74108 100 74108 0 0 1111k 0 --:--:-- --:--:-- --:--:-- 1206k
install for i386
* installing *source* package 'AffyCompatible' ...
** using staged installation
** R
** inst
** byte-compile and prepare package for lazy loading
** help
*** installing help indices
converting help for package 'AffyCompatible'
finding HTML links ... done
AffyCompatible-class html
AffyCompatible-package html
NetAffxResource-class html
NetAffxResource html
accessors-NetAffxResource html
readArr html
readMage html
readNetAffx html
readXml html
xclass html
zzz-.TypedAssociation-class html
zzz-ARRCompatibility-class html
zzz-DTTCompatibility-class html
zzz-NetAffxCompatibility-class html
zzz html
** building package indices
** installing vignettes
** testing if installed package can be loaded from temporary location
** testing if installed package can be loaded from final location
** testing if installed package keeps a record of temporary installation path
install for x64
* installing *source* package 'AffyCompatible' ...
** testing if installed package can be loaded
* MD5 sums
packaged installation of 'AffyCompatible' as AffyCompatible_1.44.0.zip
* DONE (AffyCompatible)
* installing to library 'C:/Users/biocbuild/bbs-3.9-bioc/R/library'
package 'AffyCompatible' successfully unpacked and MD5 sums checked