| Back to Multiple platform build/check report for BioC 3.9 |
|
This page was generated on 2019-10-16 12:39:37 -0400 (Wed, 16 Oct 2019).
| Package 54/1741 | Hostname | OS / Arch | INSTALL | BUILD | CHECK | BUILD BIN | ||||||
| ANF 1.6.0 Tianle Ma
| malbec2 | Linux (Ubuntu 18.04.2 LTS) / x86_64 | OK | OK | OK | |||||||
| tokay2 | Windows Server 2012 R2 Standard / x64 | OK | OK | OK | [ OK ] | |||||||
| celaya2 | OS X 10.11.6 El Capitan / x86_64 | OK | OK | OK | OK |
| Package: ANF |
| Version: 1.6.0 |
| Command: rm -rf ANF.buildbin-libdir && mkdir ANF.buildbin-libdir && C:\Users\biocbuild\bbs-3.9-bioc\R\bin\R.exe CMD INSTALL --merge-multiarch --build --library=ANF.buildbin-libdir ANF_1.6.0.tar.gz |
| StartedAt: 2019-10-16 08:40:47 -0400 (Wed, 16 Oct 2019) |
| EndedAt: 2019-10-16 08:41:10 -0400 (Wed, 16 Oct 2019) |
| EllapsedTime: 23.2 seconds |
| RetCode: 0 |
| Status: OK |
| PackageFile: ANF_1.6.0.zip |
| PackageFileSize: 263.2 KiB |
##############################################################################
##############################################################################
###
### Running command:
###
### rm -rf ANF.buildbin-libdir && mkdir ANF.buildbin-libdir && C:\Users\biocbuild\bbs-3.9-bioc\R\bin\R.exe CMD INSTALL --merge-multiarch --build --library=ANF.buildbin-libdir ANF_1.6.0.tar.gz
###
##############################################################################
##############################################################################
install for i386
* installing *source* package 'ANF' ...
** using staged installation
** R
** inst
** byte-compile and prepare package for lazy loading
** help
*** installing help indices
converting help for package 'ANF'
finding HTML links ... done
ANF html
affinity_matrix html
eval_clu html
kNN_graph html
pod html
spectral_clustering html
** building package indices
** installing vignettes
** testing if installed package can be loaded from temporary location
** testing if installed package can be loaded from final location
** testing if installed package keeps a record of temporary installation path
install for x64
* installing *source* package 'ANF' ...
** testing if installed package can be loaded
* MD5 sums
packaged installation of 'ANF' as ANF_1.6.0.zip
* DONE (ANF)