| Back to Multiple platform build/check report for BioC 3.9 |
|
This page was generated on 2019-10-16 12:48:26 -0400 (Wed, 16 Oct 2019).
| Package 15/1741 | Hostname | OS / Arch | INSTALL | BUILD | CHECK | BUILD BIN | ||||||
| ADaCGH2 2.24.0 Ramon Diaz-Uriarte
| malbec2 | Linux (Ubuntu 18.04.2 LTS) / x86_64 | OK | OK | OK | |||||||
| tokay2 | Windows Server 2012 R2 Standard / x64 | OK | OK | OK | OK | |||||||
| celaya2 | OS X 10.11.6 El Capitan / x86_64 | [ OK ] | OK | OK | OK |
| Package: ADaCGH2 |
| Version: 2.24.0 |
| Command: /Library/Frameworks/R.framework/Versions/Current/Resources/bin/R CMD INSTALL ADaCGH2 |
| StartedAt: 2019-10-15 18:38:40 -0400 (Tue, 15 Oct 2019) |
| EndedAt: 2019-10-15 18:39:05 -0400 (Tue, 15 Oct 2019) |
| EllapsedTime: 24.5 seconds |
| RetCode: 0 |
| Status: OK |
##############################################################################
##############################################################################
###
### Running command:
###
### /Library/Frameworks/R.framework/Versions/Current/Resources/bin/R CMD INSTALL ADaCGH2
###
##############################################################################
##############################################################################
* installing to library ‘/Library/Frameworks/R.framework/Versions/3.6/Resources/library’
* installing *source* package ‘ADaCGH2’ ...
** using staged installation
** libs
clang -I"/Library/Frameworks/R.framework/Resources/include" -DNDEBUG -isysroot /Library/Developer/CommandLineTools/SDKs/MacOSX.sdk -I/usr/local/include -fPIC -Wall -g -O2 -c init.c -o init.o
clang -I"/Library/Frameworks/R.framework/Resources/include" -DNDEBUG -isysroot /Library/Developer/CommandLineTools/SDKs/MacOSX.sdk -I/usr/local/include -fPIC -Wall -g -O2 -c r_haarseg.c -o r_haarseg.o
r_haarseg.c:65:12: warning: unused variable 'totalNorm' [-Wunused-variable]
double totalNorm;
^
r_haarseg.c:152:8: warning: '/*' within block comment [-Wcomment]
}/* for j */
^
r_haarseg.c:176:8: warning: '/*' within block comment [-Wcomment]
}/* for j */
^
r_haarseg.c:128:9: warning: unused variable 'j' [-Wunused-variable]
int k,j;
^
4 warnings generated.
clang -dynamiclib -Wl,-headerpad_max_install_names -undefined dynamic_lookup -single_module -multiply_defined suppress -L/Library/Frameworks/R.framework/Resources/lib -L/usr/local/lib -o ADaCGH2.so init.o r_haarseg.o -F/Library/Frameworks/R.framework/.. -framework R -Wl,-framework -Wl,CoreFoundation
installing to /Library/Frameworks/R.framework/Versions/3.6/Resources/library/00LOCK-ADaCGH2/00new/ADaCGH2/libs
** R
** data
** inst
** byte-compile and prepare package for lazy loading
** help
*** installing help indices
** building package indices
** installing vignettes
‘ADaCGH2.Rnw’ using ‘latin1’
** testing if installed package can be loaded from temporary location
** checking absolute paths in shared objects and dynamic libraries
** testing if installed package can be loaded from final location
** testing if installed package keeps a record of temporary installation path
* DONE (ADaCGH2)