| Back to Multiple platform build/check report for BioC 3.9 |
|
This page was generated on 2019-10-16 12:33:50 -0400 (Wed, 16 Oct 2019).
| Package 7/1741 | Hostname | OS / Arch | INSTALL | BUILD | CHECK | BUILD BIN | ||||||
| ABAEnrichment 1.14.1 Steffi Grote
| malbec2 | Linux (Ubuntu 18.04.2 LTS) / x86_64 | OK | OK | OK | |||||||
| tokay2 | Windows Server 2012 R2 Standard / x64 | [ OK ] | OK | OK | OK | |||||||
| celaya2 | OS X 10.11.6 El Capitan / x86_64 | OK | OK | OK | OK |
| Package: ABAEnrichment |
| Version: 1.14.1 |
| Command: C:\cygwin\bin\curl.exe -O https://malbec2.bioconductor.org/BBS/3.9/bioc/src/contrib/ABAEnrichment_1.14.1.tar.gz && rm -rf ABAEnrichment.buildbin-libdir && mkdir ABAEnrichment.buildbin-libdir && C:\Users\biocbuild\bbs-3.9-bioc\R\bin\R.exe CMD INSTALL --merge-multiarch --build --library=ABAEnrichment.buildbin-libdir ABAEnrichment_1.14.1.tar.gz && C:\Users\biocbuild\bbs-3.9-bioc\R\bin\R.exe CMD INSTALL ABAEnrichment_1.14.1.zip && rm ABAEnrichment_1.14.1.tar.gz ABAEnrichment_1.14.1.zip |
| StartedAt: 2019-10-15 20:43:27 -0400 (Tue, 15 Oct 2019) |
| EndedAt: 2019-10-15 20:44:08 -0400 (Tue, 15 Oct 2019) |
| EllapsedTime: 41.9 seconds |
| RetCode: 0 |
| Status: OK |
##############################################################################
##############################################################################
###
### Running command:
###
### C:\cygwin\bin\curl.exe -O https://malbec2.bioconductor.org/BBS/3.9/bioc/src/contrib/ABAEnrichment_1.14.1.tar.gz && rm -rf ABAEnrichment.buildbin-libdir && mkdir ABAEnrichment.buildbin-libdir && C:\Users\biocbuild\bbs-3.9-bioc\R\bin\R.exe CMD INSTALL --merge-multiarch --build --library=ABAEnrichment.buildbin-libdir ABAEnrichment_1.14.1.tar.gz && C:\Users\biocbuild\bbs-3.9-bioc\R\bin\R.exe CMD INSTALL ABAEnrichment_1.14.1.zip && rm ABAEnrichment_1.14.1.tar.gz ABAEnrichment_1.14.1.zip
###
##############################################################################
##############################################################################
% Total % Received % Xferd Average Speed Time Time Time Current
Dload Upload Total Spent Left Speed
0 0 0 0 0 0 0 0 --:--:-- --:--:-- --:--:-- 0
100 2601k 100 2601k 0 0 27.5M 0 --:--:-- --:--:-- --:--:-- 29.8M
install for i386
* installing *source* package 'ABAEnrichment' ...
** using staged installation
** libs
C:/Rtools/mingw_32/bin/g++ -I"C:/Users/BIOCBU~1/BBS-3~1.9-B/R/include" -DNDEBUG -I"C:/Users/biocbuild/bbs-3.9-bioc/R/library/Rcpp/include" -I"C:/extsoft/include" -O2 -Wall -mtune=generic -c RcppExports.cpp -o RcppExports.o
C:/Rtools/mingw_32/bin/g++ -I"C:/Users/BIOCBU~1/BBS-3~1.9-B/R/include" -DNDEBUG -I"C:/Users/biocbuild/bbs-3.9-bioc/R/library/Rcpp/include" -I"C:/extsoft/include" -O2 -Wall -mtune=generic -c unlock_environment.cc -o unlock_environment.o
C:/Rtools/mingw_32/bin/g++ -shared -s -static-libgcc -o ABAEnrichment.dll tmp.def RcppExports.o unlock_environment.o -LC:/extsoft/lib/i386 -LC:/extsoft/lib -LC:/Users/BIOCBU~1/BBS-3~1.9-B/R/bin/i386 -lR
installing to C:/Users/biocbuild/bbs-3.9-bioc/meat/ABAEnrichment.buildbin-libdir/00LOCK-ABAEnrichment/00new/ABAEnrichment/libs/i386
** R
** inst
** byte-compile and prepare package for lazy loading
** help
*** installing help indices
converting help for package 'ABAEnrichment'
finding HTML links ... done
aba_enrich html
get_annotated_genes html
get_expression html
get_id html
get_name html
get_sampled_substructures html
get_superstructures html
plot_expression html
finding level-2 HTML links ... done
** building package indices
** installing vignettes
** testing if installed package can be loaded from temporary location
** testing if installed package can be loaded from final location
** testing if installed package keeps a record of temporary installation path
install for x64
* installing *source* package 'ABAEnrichment' ...
** libs
C:/Rtools/mingw_64/bin/g++ -I"C:/Users/BIOCBU~1/BBS-3~1.9-B/R/include" -DNDEBUG -I"C:/Users/biocbuild/bbs-3.9-bioc/R/library/Rcpp/include" -I"C:/extsoft/include" -O2 -Wall -mtune=generic -c RcppExports.cpp -o RcppExports.o
C:/Rtools/mingw_64/bin/g++ -I"C:/Users/BIOCBU~1/BBS-3~1.9-B/R/include" -DNDEBUG -I"C:/Users/biocbuild/bbs-3.9-bioc/R/library/Rcpp/include" -I"C:/extsoft/include" -O2 -Wall -mtune=generic -c unlock_environment.cc -o unlock_environment.o
C:/Rtools/mingw_64/bin/g++ -shared -s -static-libgcc -o ABAEnrichment.dll tmp.def RcppExports.o unlock_environment.o -LC:/extsoft/lib/x64 -LC:/extsoft/lib -LC:/Users/BIOCBU~1/BBS-3~1.9-B/R/bin/x64 -lR
installing to C:/Users/biocbuild/bbs-3.9-bioc/meat/ABAEnrichment.buildbin-libdir/ABAEnrichment/libs/x64
** testing if installed package can be loaded
* MD5 sums
packaged installation of 'ABAEnrichment' as ABAEnrichment_1.14.1.zip
* DONE (ABAEnrichment)
* installing to library 'C:/Users/biocbuild/bbs-3.9-bioc/R/library'
package 'ABAEnrichment' successfully unpacked and MD5 sums checked