| Back to Workflows build report for BioC 3.8 | 
This page was generated on 2019-04-16 17:26:32 -0400 (Tue, 16 Apr 2019).
| Package 23/23 | Hostname | OS / Arch | INSTALL | BUILD | ||||||
| variants 1.4.1 Bioconductor Package Maintainer 
  | malbec1 | Linux (Ubuntu 16.04.6 LTS) / x86_64 | OK | [ OK ] | 
| Package: variants | 
| Version: 1.4.1 | 
| Command: /home/biocbuild/bbs-3.8-bioc/R/bin/R CMD build --keep-empty-dirs --no-resave-data variants | 
| StartedAt: 2019-04-16 16:42:50 -0400 (Tue, 16 Apr 2019) | 
| EndedAt: 2019-04-16 16:43:45 -0400 (Tue, 16 Apr 2019) | 
| EllapsedTime: 55.1 seconds | 
| RetCode: 0 | 
| Status: OK | 
| PackageFile: variants_1.4.1.tar.gz | 
| PackageFileSize: 224.6 KiB | 
############################################################################## ############################################################################## ### ### Running command: ### ### /home/biocbuild/bbs-3.8-bioc/R/bin/R CMD build --keep-empty-dirs --no-resave-data variants ### ############################################################################## ############################################################################## * checking for file ‘variants/DESCRIPTION’ ... OK * preparing ‘variants’: * checking DESCRIPTION meta-information ... OK * installing the package to build vignettes * creating vignettes ... OK * checking for LF line-endings in source and make files and shell scripts * checking for empty or unneeded directories * creating default NAMESPACE file * building ‘variants_1.4.1.tar.gz’