| Back to Workflows build report for BioC 3.8 |
This page was generated on 2019-01-30 16:00:25 -0500 (Wed, 30 Jan 2019).
| Package 17/23 | Hostname | OS / Arch | INSTALL | BUILD | ||||||
| rnaseqDTU 1.0.1 Michael Love
| malbec1 | Linux (Ubuntu 16.04.1 LTS) / x86_64 | OK | OK | ||||||
| tokay1 | Windows Server 2012 R2 Standard / x64 | OK | [ OK ] |
| Package: rnaseqDTU |
| Version: 1.0.1 |
| Command: chmod a+r rnaseqDTU -R && C:\Users\biocbuild\bbs-3.8-bioc\R\bin\R.exe CMD build --keep-empty-dirs --no-resave-data rnaseqDTU |
| StartedAt: 2019-01-30 08:13:52 -0500 (Wed, 30 Jan 2019) |
| EndedAt: 2019-01-30 08:18:30 -0500 (Wed, 30 Jan 2019) |
| EllapsedTime: 277.5 seconds |
| RetCode: 0 |
| Status: OK |
| PackageFile: rnaseqDTU_1.0.1.tar.gz |
| PackageFileSize: 8.151 MiB |
############################################################################## ############################################################################## ### ### Running command: ### ### chmod a+r rnaseqDTU -R && C:\Users\biocbuild\bbs-3.8-bioc\R\bin\R.exe CMD build --keep-empty-dirs --no-resave-data rnaseqDTU ### ############################################################################## ############################################################################## * checking for file 'rnaseqDTU/DESCRIPTION' ... OK * preparing 'rnaseqDTU': * checking DESCRIPTION meta-information ... OK * installing the package to build vignettes * creating vignettes ... OK * checking for LF line-endings in source and make files and shell scripts * checking for empty or unneeded directories * looking to see if a 'data/datalist' file should be added * building 'rnaseqDTU_1.0.1.tar.gz'