| Back to Workflows build report for BioC 3.8 |
This page was generated on 2019-01-30 16:00:24 -0500 (Wed, 30 Jan 2019).
| Package 9/23 | Hostname | OS / Arch | INSTALL | BUILD | ||||||
| generegulation 1.4.0 Bioconductor Package Maintainer
| malbec1 | Linux (Ubuntu 16.04.1 LTS) / x86_64 | OK | OK | ||||||
| tokay1 | Windows Server 2012 R2 Standard / x64 | [ OK ] | OK |
| Package: generegulation |
| Version: 1.4.0 |
| Command: C:\cygwin\bin\curl.exe -O https://malbec1.bioconductor.org/BBS/3.8/workflows/src/contrib/generegulation_1.4.0.tar.gz && rm -rf generegulation.buildbin-libdir && mkdir generegulation.buildbin-libdir && C:\Users\biocbuild\bbs-3.8-bioc\R\bin\R.exe CMD INSTALL --merge-multiarch --build --library=generegulation.buildbin-libdir generegulation_1.4.0.tar.gz && C:\Users\biocbuild\bbs-3.8-bioc\R\bin\R.exe CMD INSTALL generegulation_1.4.0.zip && rm generegulation_1.4.0.tar.gz generegulation_1.4.0.zip |
| StartedAt: 2019-01-30 07:57:40 -0500 (Wed, 30 Jan 2019) |
| EndedAt: 2019-01-30 07:58:59 -0500 (Wed, 30 Jan 2019) |
| EllapsedTime: 79.4 seconds |
| RetCode: 0 |
| Status: OK |
##############################################################################
##############################################################################
###
### Running command:
###
### C:\cygwin\bin\curl.exe -O https://malbec1.bioconductor.org/BBS/3.8/workflows/src/contrib/generegulation_1.4.0.tar.gz && rm -rf generegulation.buildbin-libdir && mkdir generegulation.buildbin-libdir && C:\Users\biocbuild\bbs-3.8-bioc\R\bin\R.exe CMD INSTALL --merge-multiarch --build --library=generegulation.buildbin-libdir generegulation_1.4.0.tar.gz && C:\Users\biocbuild\bbs-3.8-bioc\R\bin\R.exe CMD INSTALL generegulation_1.4.0.zip && rm generegulation_1.4.0.tar.gz generegulation_1.4.0.zip
###
##############################################################################
##############################################################################
% Total % Received % Xferd Average Speed Time Time Time Current
Dload Upload Total Spent Left Speed
0 0 0 0 0 0 0 0 --:--:-- --:--:-- --:--:-- 0
100 639k 100 639k 0 0 19.2M 0 --:--:-- --:--:-- --:--:-- 21.5M
install for i386
* installing *source* package 'generegulation' ...
** help
No man pages found in package 'generegulation'
*** installing help indices
** building package indices
** installing vignettes
** testing if installed package can be loaded
See system.file("LICENSE", package="MotifDb") for use restrictions.
In R CMD INSTALL
install for x64
* installing *source* package 'generegulation' ...
** testing if installed package can be loaded
See system.file("LICENSE", package="MotifDb") for use restrictions.
* MD5 sums
packaged installation of 'generegulation' as generegulation_1.4.0.zip
* DONE (generegulation)
In R CMD INSTALL
In R CMD INSTALL
* installing to library 'C:/Users/biocbuild/bbs-3.8-bioc/R/library'
package 'generegulation' successfully unpacked and MD5 sums checked
In R CMD INSTALL