| Back to Workflows build report for BioC 3.8 |
This page was generated on 2019-01-30 16:00:25 -0500 (Wed, 30 Jan 2019).
| Package 3/23 | Hostname | OS / Arch | INSTALL | BUILD | ||||||
| BiocMetaWorkflow 1.2.0 Mike Smith
| malbec1 | Linux (Ubuntu 16.04.1 LTS) / x86_64 | OK | OK | ||||||
| tokay1 | Windows Server 2012 R2 Standard / x64 | [ OK ] | OK |
| Package: BiocMetaWorkflow |
| Version: 1.2.0 |
| Command: C:\cygwin\bin\curl.exe -O https://malbec1.bioconductor.org/BBS/3.8/workflows/src/contrib/BiocMetaWorkflow_1.2.0.tar.gz && rm -rf BiocMetaWorkflow.buildbin-libdir && mkdir BiocMetaWorkflow.buildbin-libdir && C:\Users\biocbuild\bbs-3.8-bioc\R\bin\R.exe CMD INSTALL --merge-multiarch --build --library=BiocMetaWorkflow.buildbin-libdir BiocMetaWorkflow_1.2.0.tar.gz && C:\Users\biocbuild\bbs-3.8-bioc\R\bin\R.exe CMD INSTALL BiocMetaWorkflow_1.2.0.zip && rm BiocMetaWorkflow_1.2.0.tar.gz BiocMetaWorkflow_1.2.0.zip |
| StartedAt: 2019-01-30 07:57:39 -0500 (Wed, 30 Jan 2019) |
| EndedAt: 2019-01-30 07:57:43 -0500 (Wed, 30 Jan 2019) |
| EllapsedTime: 3.7 seconds |
| RetCode: 0 |
| Status: OK |
##############################################################################
##############################################################################
###
### Running command:
###
### C:\cygwin\bin\curl.exe -O https://malbec1.bioconductor.org/BBS/3.8/workflows/src/contrib/BiocMetaWorkflow_1.2.0.tar.gz && rm -rf BiocMetaWorkflow.buildbin-libdir && mkdir BiocMetaWorkflow.buildbin-libdir && C:\Users\biocbuild\bbs-3.8-bioc\R\bin\R.exe CMD INSTALL --merge-multiarch --build --library=BiocMetaWorkflow.buildbin-libdir BiocMetaWorkflow_1.2.0.tar.gz && C:\Users\biocbuild\bbs-3.8-bioc\R\bin\R.exe CMD INSTALL BiocMetaWorkflow_1.2.0.zip && rm BiocMetaWorkflow_1.2.0.tar.gz BiocMetaWorkflow_1.2.0.zip
###
##############################################################################
##############################################################################
% Total % Received % Xferd Average Speed Time Time Time Current
Dload Upload Total Spent Left Speed
0 0 0 0 0 0 0 0 --:--:-- --:--:-- --:--:-- 0
100 96219 100 96219 0 0 3025k 0 --:--:-- --:--:-- --:--:-- 3480k
install for i386
* installing *source* package 'BiocMetaWorkflow' ...
** help
No man pages found in package 'BiocMetaWorkflow'
*** installing help indices
** building package indices
** installing vignettes
** testing if installed package can be loaded
In R CMD INSTALL
install for x64
* installing *source* package 'BiocMetaWorkflow' ...
** testing if installed package can be loaded
* MD5 sums
packaged installation of 'BiocMetaWorkflow' as BiocMetaWorkflow_1.2.0.zip
* DONE (BiocMetaWorkflow)
In R CMD INSTALL
In R CMD INSTALL
* installing to library 'C:/Users/biocbuild/bbs-3.8-bioc/R/library'
package 'BiocMetaWorkflow' successfully unpacked and MD5 sums checked
In R CMD INSTALL