| Back to Multiple platform build/check report for BioC 3.8 experimental data |
This page was generated on 2019-04-16 15:26:06 -0400 (Tue, 16 Apr 2019).
| Package 258/360 | Hostname | OS / Arch | INSTALL | BUILD | CHECK | BUILD BIN | ||||||
| pRolocdata 1.20.0 Laurent Gatto
| malbec1 | Linux (Ubuntu 16.04.6 LTS) / x86_64 | OK | OK | [ OK ] |
| Package: pRolocdata |
| Version: 1.20.0 |
| Command: /home/biocbuild/bbs-3.8-bioc/R/bin/R CMD check --install=check:pRolocdata.install-out.txt --library=/home/biocbuild/bbs-3.8-bioc/R/library --no-vignettes --timings pRolocdata_1.20.0.tar.gz |
| StartedAt: 2019-04-16 13:58:53 -0400 (Tue, 16 Apr 2019) |
| EndedAt: 2019-04-16 14:01:19 -0400 (Tue, 16 Apr 2019) |
| EllapsedTime: 146.1 seconds |
| RetCode: 0 |
| Status: OK |
| CheckDir: pRolocdata.Rcheck |
| Warnings: 0 |
##############################################################################
##############################################################################
###
### Running command:
###
### /home/biocbuild/bbs-3.8-bioc/R/bin/R CMD check --install=check:pRolocdata.install-out.txt --library=/home/biocbuild/bbs-3.8-bioc/R/library --no-vignettes --timings pRolocdata_1.20.0.tar.gz
###
##############################################################################
##############################################################################
* using log directory ‘/home/biocbuild/bbs-3.8-data-experiment/meat/pRolocdata.Rcheck’
* using R version 3.5.3 (2019-03-11)
* using platform: x86_64-pc-linux-gnu (64-bit)
* using session charset: UTF-8
* using option ‘--no-vignettes’
* checking for file ‘pRolocdata/DESCRIPTION’ ... OK
* checking extension type ... Package
* this is package ‘pRolocdata’ version ‘1.20.0’
* checking package namespace information ... OK
* checking package dependencies ... OK
* checking if this is a source package ... OK
* checking if there is a namespace ... OK
* checking for hidden files and directories ... OK
* checking for portable file names ... OK
* checking for sufficient/correct file permissions ... OK
* checking whether package ‘pRolocdata’ can be installed ... OK
* checking installed package size ... NOTE
installed size is 137.6Mb
sub-directories of 1Mb or more:
data 43.8Mb
extdata 93.4Mb
* checking package directory ... OK
* checking DESCRIPTION meta-information ... OK
* checking top-level files ... OK
* checking for left-over files ... OK
* checking index information ... OK
* checking package subdirectories ... OK
* checking R files for non-ASCII characters ... OK
* checking R files for syntax errors ... OK
* checking whether the package can be loaded ... OK
* checking whether the package can be loaded with stated dependencies ... OK
* checking whether the package can be unloaded cleanly ... OK
* checking whether the namespace can be loaded with stated dependencies ... OK
* checking whether the namespace can be unloaded cleanly ... OK
* checking dependencies in R code ... OK
* checking S3 generic/method consistency ... OK
* checking replacement functions ... OK
* checking foreign function calls ... OK
* checking R code for possible problems ... OK
* checking Rd files ... OK
* checking Rd metadata ... OK
* checking Rd cross-references ... OK
* checking for missing documentation entries ... OK
* checking for code/documentation mismatches ... OK
* checking Rd \usage sections ... OK
* checking Rd contents ... OK
* checking for unstated dependencies in examples ... OK
* checking contents of ‘data’ directory ... OK
* checking data for non-ASCII characters ... OK
* checking data for ASCII and uncompressed saves ... OK
* checking examples ... OK
Examples with CPU or elapsed time > 5s
user system elapsed
hyperLOPIT2015 5.264 0.028 5.295
andreyev2010 5.020 0.172 8.565
* checking for unstated dependencies in ‘tests’ ... OK
* checking tests ...
Running ‘testthat.R’
OK
* checking PDF version of manual ... OK
* DONE
Status: 1 NOTE
See
‘/home/biocbuild/bbs-3.8-data-experiment/meat/pRolocdata.Rcheck/00check.log’
for details.
pRolocdata.Rcheck/00install.out
############################################################################## ############################################################################## ### ### Running command: ### ### /home/biocbuild/bbs-3.8-bioc/R/bin/R CMD INSTALL pRolocdata ### ############################################################################## ############################################################################## * installing to library ‘/home/biocbuild/bbs-3.8-bioc/R/library’ * installing *source* package ‘pRolocdata’ ... ** R ** data ** inst ** byte-compile and prepare package for lazy loading ** help *** installing help indices ** building package indices ** testing if installed package can be loaded * DONE (pRolocdata)
pRolocdata.Rcheck/tests/testthat.Rout
R version 3.5.3 (2019-03-11) -- "Great Truth"
Copyright (C) 2019 The R Foundation for Statistical Computing
Platform: x86_64-pc-linux-gnu (64-bit)
R is free software and comes with ABSOLUTELY NO WARRANTY.
You are welcome to redistribute it under certain conditions.
Type 'license()' or 'licence()' for distribution details.
R is a collaborative project with many contributors.
Type 'contributors()' for more information and
'citation()' on how to cite R or R packages in publications.
Type 'demo()' for some demos, 'help()' for on-line help, or
'help.start()' for an HTML browser interface to help.
Type 'q()' to quit R.
> # setting R_TESTS to empty string because of
> # https://github.com/hadley/testthat/issues/144
> # revert this when that issue in R is fixed.
> Sys.setenv("R_TESTS" = "")
> library(testthat)
> library(MSnbase)
Loading required package: BiocGenerics
Loading required package: parallel
Attaching package: 'BiocGenerics'
The following objects are masked from 'package:parallel':
clusterApply, clusterApplyLB, clusterCall, clusterEvalQ,
clusterExport, clusterMap, parApply, parCapply, parLapply,
parLapplyLB, parRapply, parSapply, parSapplyLB
The following objects are masked from 'package:stats':
IQR, mad, sd, var, xtabs
The following objects are masked from 'package:base':
Filter, Find, Map, Position, Reduce, anyDuplicated, append,
as.data.frame, basename, cbind, colMeans, colSums, colnames,
dirname, do.call, duplicated, eval, evalq, get, grep, grepl,
intersect, is.unsorted, lapply, lengths, mapply, match, mget,
order, paste, pmax, pmax.int, pmin, pmin.int, rank, rbind,
rowMeans, rowSums, rownames, sapply, setdiff, sort, table, tapply,
union, unique, unsplit, which, which.max, which.min
Loading required package: Biobase
Welcome to Bioconductor
Vignettes contain introductory material; view with
'browseVignettes()'. To cite Bioconductor, see
'citation("Biobase")', and for packages 'citation("pkgname")'.
Loading required package: mzR
Loading required package: Rcpp
Loading required package: S4Vectors
Loading required package: stats4
Attaching package: 'S4Vectors'
The following object is masked from 'package:base':
expand.grid
Loading required package: ProtGenerics
This is MSnbase version 2.8.3
Visit https://lgatto.github.io/MSnbase/ to get started.
Attaching package: 'MSnbase'
The following object is masked from 'package:stats':
smooth
The following object is masked from 'package:base':
trimws
> library(pRolocdata)
This is pRolocdata version 1.20.0.
Use 'pRolocdata()' to list available data sets.
>
> test_check("pRolocdata")
══ testthat results ═══════════════════════════════════════════════════════════
OK: 79 SKIPPED: 0 FAILED: 0
>
> proc.time()
user system elapsed
11.692 0.348 12.044
pRolocdata.Rcheck/pRolocdata-Ex.timings
| name | user | system | elapsed | |
| E14TG2a | 0.044 | 0.000 | 0.043 | |
| andreyev2010 | 5.020 | 0.172 | 8.565 | |
| andy2011 | 0.056 | 0.008 | 0.063 | |
| at_chloro | 0.148 | 0.008 | 0.158 | |
| baers2018 | 0.260 | 0.008 | 0.270 | |
| beltran2016 | 0.368 | 0.012 | 0.379 | |
| dunkley2006 | 0.008 | 0.004 | 0.013 | |
| fabre2015 | 0.220 | 0.004 | 0.227 | |
| foster2006 | 0.040 | 0.000 | 0.041 | |
| groen2014 | 2.952 | 0.028 | 2.979 | |
| hall2009 | 0.192 | 0.004 | 0.196 | |
| havugimana2012 | 0.112 | 0.008 | 0.120 | |
| hirst2018 | 0.428 | 0.020 | 0.448 | |
| hyperLOPIT2015 | 5.264 | 0.028 | 5.295 | |
| hyperLOPITU2OS2017 | 0.524 | 0.004 | 0.540 | |
| itzhak2016 | 0.448 | 0.004 | 0.452 | |
| itzhak2017 | 1.124 | 0.008 | 1.136 | |
| kirkwood2013 | 0.044 | 0.000 | 0.043 | |
| kristensen2012 | 0.024 | 0.000 | 0.024 | |
| lopimsSyn2 | 0.352 | 0.000 | 0.350 | |
| mulvey2015 | 2.756 | 0.028 | 2.789 | |
| nikolovski2012 | 0.316 | 0.000 | 0.318 | |
| nikolovski2014 | 0.308 | 0.008 | 0.318 | |
| pRolocdata | 0.012 | 0.028 | 0.058 | |
| pRolocmetadata | 0.016 | 0.004 | 0.023 | |
| rodriguez2012r1 | 0.440 | 0.036 | 0.492 | |
| stekhoven2014 | 0.240 | 0.024 | 0.266 | |
| tan2009 | 0.012 | 0.004 | 0.018 | |
| trotter2010 | 0.416 | 0.016 | 0.435 | |
| yeast | 0.396 | 0.024 | 0.421 | |