| Back to Multiple platform build/check report for BioC 3.8 experimental data |
This page was generated on 2019-04-16 15:26:18 -0400 (Tue, 16 Apr 2019).
| Package 210/360 | Hostname | OS / Arch | INSTALL | BUILD | CHECK | BUILD BIN | ||||||
| microRNAome 1.4.0 Matthew N. McCall
| malbec1 | Linux (Ubuntu 16.04.6 LTS) / x86_64 | OK | [ OK ] | OK |
| Package: microRNAome |
| Version: 1.4.0 |
| Command: /home/biocbuild/bbs-3.8-bioc/R/bin/R CMD build --keep-empty-dirs --no-resave-data microRNAome |
| StartedAt: 2019-04-16 12:49:31 -0400 (Tue, 16 Apr 2019) |
| EndedAt: 2019-04-16 12:49:38 -0400 (Tue, 16 Apr 2019) |
| EllapsedTime: 6.7 seconds |
| RetCode: 0 |
| Status: OK |
| PackageFile: microRNAome_1.4.0.tar.gz |
| PackageFileSize: 1.213 MiB |
############################################################################## ############################################################################## ### ### Running command: ### ### /home/biocbuild/bbs-3.8-bioc/R/bin/R CMD build --keep-empty-dirs --no-resave-data microRNAome ### ############################################################################## ############################################################################## * checking for file ‘microRNAome/DESCRIPTION’ ... OK * preparing ‘microRNAome’: * checking DESCRIPTION meta-information ... OK * checking for LF line-endings in source and make files and shell scripts * checking for empty or unneeded directories * looking to see if a ‘data/datalist’ file should be added * building ‘microRNAome_1.4.0.tar.gz’