| Back to Multiple platform build/check report for BioC 3.8 experimental data |
This page was generated on 2019-04-16 15:25:59 -0400 (Tue, 16 Apr 2019).
| Package 108/360 | Hostname | OS / Arch | INSTALL | BUILD | CHECK | BUILD BIN | ||||||
| fibroEset 1.24.0 Sylvia Merk
| malbec1 | Linux (Ubuntu 16.04.6 LTS) / x86_64 | [ OK ] | OK | WARNINGS |
| Package: fibroEset |
| Version: 1.24.0 |
| Command: /home/biocbuild/bbs-3.8-bioc/R/bin/R CMD INSTALL fibroEset |
| StartedAt: 2019-04-16 12:08:20 -0400 (Tue, 16 Apr 2019) |
| EndedAt: 2019-04-16 12:08:24 -0400 (Tue, 16 Apr 2019) |
| EllapsedTime: 4.2 seconds |
| RetCode: 0 |
| Status: OK |
############################################################################## ############################################################################## ### ### Running command: ### ### /home/biocbuild/bbs-3.8-bioc/R/bin/R CMD INSTALL fibroEset ### ############################################################################## ############################################################################## * installing to library ‘/home/biocbuild/bbs-3.8-bioc/R/library’ * installing *source* package ‘fibroEset’ ... ** R ** data ** byte-compile and prepare package for lazy loading ** help *** installing help indices ** building package indices ** testing if installed package can be loaded * DONE (fibroEset)