| Back to Multiple platform build/check report for BioC 3.8 experimental data |
This page was generated on 2019-04-16 15:26:20 -0400 (Tue, 16 Apr 2019).
| Package 328/360 | Hostname | OS / Arch | INSTALL | BUILD | CHECK | BUILD BIN | ||||||
| TabulaMurisData 1.0.0 Charlotte Soneson
| malbec1 | Linux (Ubuntu 16.04.6 LTS) / x86_64 | [ ERROR ] | OK | ERROR |
| Package: TabulaMurisData |
| Version: 1.0.0 |
| Command: /home/biocbuild/bbs-3.8-bioc/R/bin/R CMD INSTALL TabulaMurisData |
| StartedAt: 2019-04-16 12:16:16 -0400 (Tue, 16 Apr 2019) |
| EndedAt: 2019-04-16 12:17:43 -0400 (Tue, 16 Apr 2019) |
| EllapsedTime: 86.6 seconds |
| RetCode: 1 |
| Status: ERROR |
############################################################################## ############################################################################## ### ### Running command: ### ### /home/biocbuild/bbs-3.8-bioc/R/bin/R CMD INSTALL TabulaMurisData ### ############################################################################## ############################################################################## * installing to library ‘/home/biocbuild/bbs-3.8-bioc/R/library’ * installing *source* package ‘TabulaMurisData’ ... ** R ** inst ** byte-compile and prepare package for lazy loading ** help *** installing help indices ** building package indices ** installing vignettes ** testing if installed package can be loaded updating metadata: snapshotDate(): 2018-10-30 Error: package or namespace load failed for ‘TabulaMurisData’: .onLoad failed in loadNamespace() for 'TabulaMurisData', details: call: readRDS(.db_index_file(x)) error: unknown input format Error: loading failed Execution halted ERROR: loading failed * removing ‘/home/biocbuild/bbs-3.8-bioc/R/library/TabulaMurisData’ * restoring previous ‘/home/biocbuild/bbs-3.8-bioc/R/library/TabulaMurisData’