| Back to Multiple platform build/check report for BioC 3.8 experimental data | 
This page was generated on 2019-04-16 15:26:13 -0400 (Tue, 16 Apr 2019).
| Package 325/360 | Hostname | OS / Arch | INSTALL | BUILD | CHECK | BUILD BIN | ||||||
| SVM2CRMdata 1.14.0 Guidantonio Malagoli Tagliazucchi 
 | malbec1 | Linux (Ubuntu 16.04.6 LTS) / x86_64 | [ OK ] | OK | WARNINGS |  | 
| Package: SVM2CRMdata | 
| Version: 1.14.0 | 
| Command: /home/biocbuild/bbs-3.8-bioc/R/bin/R CMD INSTALL SVM2CRMdata | 
| StartedAt: 2019-04-16 12:10:27 -0400 (Tue, 16 Apr 2019) | 
| EndedAt: 2019-04-16 12:10:41 -0400 (Tue, 16 Apr 2019) | 
| EllapsedTime: 14.7 seconds | 
| RetCode: 0 | 
| Status: OK | 
############################################################################## ############################################################################## ### ### Running command: ### ### /home/biocbuild/bbs-3.8-bioc/R/bin/R CMD INSTALL SVM2CRMdata ### ############################################################################## ############################################################################## * installing to library ‘/home/biocbuild/bbs-3.8-bioc/R/library’ * installing *source* package ‘SVM2CRMdata’ ... ** data ** inst ** help *** installing help indices ** building package indices ** installing vignettes ** testing if installed package can be loaded * DONE (SVM2CRMdata)