| Back to Multiple platform build/check report for BioC 3.8 experimental data |
This page was generated on 2019-04-16 15:26:05 -0400 (Tue, 16 Apr 2019).
| Package 282/360 | Hostname | OS / Arch | INSTALL | BUILD | CHECK | BUILD BIN | ||||||
| RMassBankData 1.20.0 Michael Stravs, Emma Schymanski
| malbec1 | Linux (Ubuntu 16.04.6 LTS) / x86_64 | OK | [ OK ] | OK |
| Package: RMassBankData |
| Version: 1.20.0 |
| Command: /home/biocbuild/bbs-3.8-bioc/R/bin/R CMD build --keep-empty-dirs --no-resave-data RMassBankData |
| StartedAt: 2019-04-16 12:24:25 -0400 (Tue, 16 Apr 2019) |
| EndedAt: 2019-04-16 12:24:41 -0400 (Tue, 16 Apr 2019) |
| EllapsedTime: 16.0 seconds |
| RetCode: 0 |
| Status: OK |
| PackageFile: RMassBankData_1.20.0.tar.gz |
| PackageFileSize: 51.51 MiB |
############################################################################## ############################################################################## ### ### Running command: ### ### /home/biocbuild/bbs-3.8-bioc/R/bin/R CMD build --keep-empty-dirs --no-resave-data RMassBankData ### ############################################################################## ############################################################################## * checking for file ‘RMassBankData/DESCRIPTION’ ... OK * preparing ‘RMassBankData’: * checking DESCRIPTION meta-information ... OK * checking for LF line-endings in source and make files and shell scripts * checking for empty or unneeded directories * building ‘RMassBankData_1.20.0.tar.gz’