| Back to Multiple platform build/check report for BioC 3.8 experimental data |
This page was generated on 2019-04-16 15:26:18 -0400 (Tue, 16 Apr 2019).
| Package 227/360 | Hostname | OS / Arch | INSTALL | BUILD | CHECK | BUILD BIN | ||||||
| MSstatsBioData 1.4.0 Meena Choi
| malbec1 | Linux (Ubuntu 16.04.6 LTS) / x86_64 | OK | OK | [ OK ] |
| Package: MSstatsBioData |
| Version: 1.4.0 |
| Command: /home/biocbuild/bbs-3.8-bioc/R/bin/R CMD check --install=check:MSstatsBioData.install-out.txt --library=/home/biocbuild/bbs-3.8-bioc/R/library --no-vignettes --timings MSstatsBioData_1.4.0.tar.gz |
| StartedAt: 2019-04-16 13:55:26 -0400 (Tue, 16 Apr 2019) |
| EndedAt: 2019-04-16 14:01:01 -0400 (Tue, 16 Apr 2019) |
| EllapsedTime: 334.4 seconds |
| RetCode: 0 |
| Status: OK |
| CheckDir: MSstatsBioData.Rcheck |
| Warnings: 0 |
##############################################################################
##############################################################################
###
### Running command:
###
### /home/biocbuild/bbs-3.8-bioc/R/bin/R CMD check --install=check:MSstatsBioData.install-out.txt --library=/home/biocbuild/bbs-3.8-bioc/R/library --no-vignettes --timings MSstatsBioData_1.4.0.tar.gz
###
##############################################################################
##############################################################################
* using log directory ‘/home/biocbuild/bbs-3.8-data-experiment/meat/MSstatsBioData.Rcheck’
* using R version 3.5.3 (2019-03-11)
* using platform: x86_64-pc-linux-gnu (64-bit)
* using session charset: UTF-8
* using option ‘--no-vignettes’
* checking for file ‘MSstatsBioData/DESCRIPTION’ ... OK
* checking extension type ... Package
* this is package ‘MSstatsBioData’ version ‘1.4.0’
* package encoding: UTF-8
* checking package namespace information ... OK
* checking package dependencies ... OK
* checking if this is a source package ... OK
* checking if there is a namespace ... OK
* checking for hidden files and directories ... OK
* checking for portable file names ... OK
* checking for sufficient/correct file permissions ... OK
* checking whether package ‘MSstatsBioData’ can be installed ... OK
* checking installed package size ... NOTE
installed size is 5.1Mb
sub-directories of 1Mb or more:
data 5.0Mb
* checking package directory ... OK
* checking ‘build’ directory ... OK
* checking DESCRIPTION meta-information ... OK
* checking top-level files ... OK
* checking for left-over files ... OK
* checking index information ... OK
* checking package subdirectories ... OK
* checking whether the package can be loaded ... OK
* checking whether the package can be loaded with stated dependencies ... OK
* checking whether the package can be unloaded cleanly ... OK
* checking whether the namespace can be loaded with stated dependencies ... OK
* checking whether the namespace can be unloaded cleanly ... OK
* checking Rd files ... OK
* checking Rd metadata ... OK
* checking Rd cross-references ... OK
* checking for missing documentation entries ... OK
* checking for code/documentation mismatches ... OK
* checking Rd \usage sections ... OK
* checking Rd contents ... OK
* checking for unstated dependencies in examples ... OK
* checking contents of ‘data’ directory ... OK
* checking data for non-ASCII characters ... OK
* checking data for ASCII and uncompressed saves ... OK
* checking files in ‘vignettes’ ... OK
* checking examples ... OK
Examples with CPU or elapsed time > 5s
user system elapsed
DDA_cardio 121.448 0.628 122.242
SRM_crc_validation 102.328 0.404 102.537
SRM_crc_training 38.360 0.340 38.593
SRM_mpm_validation 22.024 0.296 21.477
SRM_mpm_training 15.328 0.252 14.831
SRM_ovarian 15.356 0.188 15.278
SRM_yeast 13.236 0.216 11.636
* checking for unstated dependencies in vignettes ... OK
* checking package vignettes in ‘inst/doc’ ... OK
* checking running R code from vignettes ... SKIPPED
* checking re-building of vignette outputs ... SKIPPED
* checking PDF version of manual ... OK
* DONE
Status: 1 NOTE
See
‘/home/biocbuild/bbs-3.8-data-experiment/meat/MSstatsBioData.Rcheck/00check.log’
for details.
MSstatsBioData.Rcheck/00install.out
############################################################################## ############################################################################## ### ### Running command: ### ### /home/biocbuild/bbs-3.8-bioc/R/bin/R CMD INSTALL MSstatsBioData ### ############################################################################## ############################################################################## * installing to library ‘/home/biocbuild/bbs-3.8-bioc/R/library’ * installing *source* package ‘MSstatsBioData’ ... ** data *** moving datasets to lazyload DB ** inst ** help *** installing help indices ** building package indices ** installing vignettes ** testing if installed package can be loaded * DONE (MSstatsBioData)
MSstatsBioData.Rcheck/MSstatsBioData-Ex.timings
| name | user | system | elapsed | |
| DDA_cardio | 121.448 | 0.628 | 122.242 | |
| SRM_crc_training | 38.360 | 0.340 | 38.593 | |
| SRM_crc_validation | 102.328 | 0.404 | 102.537 | |
| SRM_mpm_training | 15.328 | 0.252 | 14.831 | |
| SRM_mpm_validation | 22.024 | 0.296 | 21.477 | |
| SRM_ovarian | 15.356 | 0.188 | 15.278 | |
| SRM_yeast | 13.236 | 0.216 | 11.636 | |