| Back to Multiple platform build/check report for BioC 3.8 experimental data |
This page was generated on 2019-04-16 15:26:05 -0400 (Tue, 16 Apr 2019).
| Package 202/360 | Hostname | OS / Arch | INSTALL | BUILD | CHECK | BUILD BIN | ||||||
| MEDIPSData 1.18.0 Lukas Chavez
| malbec1 | Linux (Ubuntu 16.04.6 LTS) / x86_64 | OK | [ OK ] | OK |
| Package: MEDIPSData |
| Version: 1.18.0 |
| Command: /home/biocbuild/bbs-3.8-bioc/R/bin/R CMD build --keep-empty-dirs --no-resave-data MEDIPSData |
| StartedAt: 2019-04-16 12:24:22 -0400 (Tue, 16 Apr 2019) |
| EndedAt: 2019-04-16 12:24:53 -0400 (Tue, 16 Apr 2019) |
| EllapsedTime: 31.8 seconds |
| RetCode: 0 |
| Status: OK |
| PackageFile: MEDIPSData_1.18.0.tar.gz |
| PackageFileSize: 163.1 MiB |
############################################################################## ############################################################################## ### ### Running command: ### ### /home/biocbuild/bbs-3.8-bioc/R/bin/R CMD build --keep-empty-dirs --no-resave-data MEDIPSData ### ############################################################################## ############################################################################## * checking for file ‘MEDIPSData/DESCRIPTION’ ... OK * preparing ‘MEDIPSData’: * checking DESCRIPTION meta-information ... OK * checking for LF line-endings in source and make files and shell scripts * checking for empty or unneeded directories * looking to see if a ‘data/datalist’ file should be added * building ‘MEDIPSData_1.18.0.tar.gz’