| Back to Multiple platform build/check report for BioC 3.8 experimental data |
This page was generated on 2019-04-16 15:26:16 -0400 (Tue, 16 Apr 2019).
| Package 171/360 | Hostname | OS / Arch | INSTALL | BUILD | CHECK | BUILD BIN | ||||||
| IHWpaper 1.10.0 Nikos Ignatiadis
| malbec1 | Linux (Ubuntu 16.04.6 LTS) / x86_64 | OK | [ OK ] | OK |
| Package: IHWpaper |
| Version: 1.10.0 |
| Command: /home/biocbuild/bbs-3.8-bioc/R/bin/R CMD build --keep-empty-dirs --no-resave-data IHWpaper |
| StartedAt: 2019-04-16 12:46:24 -0400 (Tue, 16 Apr 2019) |
| EndedAt: 2019-04-16 12:52:57 -0400 (Tue, 16 Apr 2019) |
| EllapsedTime: 393.4 seconds |
| RetCode: 0 |
| Status: OK |
| PackageFile: IHWpaper_1.10.0.tar.gz |
| PackageFileSize: 76 MiB |
##############################################################################
##############################################################################
###
### Running command:
###
### /home/biocbuild/bbs-3.8-bioc/R/bin/R CMD build --keep-empty-dirs --no-resave-data IHWpaper
###
##############################################################################
##############################################################################
* checking for file ‘IHWpaper/DESCRIPTION’ ... OK
* preparing ‘IHWpaper’:
* checking DESCRIPTION meta-information ... OK
* cleaning src
* installing the package to build vignettes
* creating vignettes ... OK
Warning: ‘inst/doc’ file
‘real_data_examples_single_curve.R’
ignored as vignettes have been rebuilt.
Run R CMD build with --no-build-vignettes to prevent rebuilding.
* cleaning src
* checking for LF line-endings in source and make files and shell scripts
* checking for empty or unneeded directories
* building ‘IHWpaper_1.10.0.tar.gz’