| Back to Multiple platform build/check report for BioC 3.8 experimental data |
This page was generated on 2019-04-16 15:26:02 -0400 (Tue, 16 Apr 2019).
| Package 85/360 | Hostname | OS / Arch | INSTALL | BUILD | CHECK | BUILD BIN | ||||||
| DLBCL 1.22.0 Marcus Dittrich
| malbec1 | Linux (Ubuntu 16.04.6 LTS) / x86_64 | OK | [ OK ] | WARNINGS |
| Package: DLBCL |
| Version: 1.22.0 |
| Command: /home/biocbuild/bbs-3.8-bioc/R/bin/R CMD build --keep-empty-dirs --no-resave-data DLBCL |
| StartedAt: 2019-04-16 12:22:03 -0400 (Tue, 16 Apr 2019) |
| EndedAt: 2019-04-16 12:22:05 -0400 (Tue, 16 Apr 2019) |
| EllapsedTime: 2.1 seconds |
| RetCode: 0 |
| Status: OK |
| PackageFile: DLBCL_1.22.0.tar.gz |
| PackageFileSize: 5.525 MiB |
############################################################################## ############################################################################## ### ### Running command: ### ### /home/biocbuild/bbs-3.8-bioc/R/bin/R CMD build --keep-empty-dirs --no-resave-data DLBCL ### ############################################################################## ############################################################################## * checking for file ‘DLBCL/DESCRIPTION’ ... OK * preparing ‘DLBCL’: * checking DESCRIPTION meta-information ... OK * checking for LF line-endings in source and make files and shell scripts * checking for empty or unneeded directories * looking to see if a ‘data/datalist’ file should be added * building ‘DLBCL_1.22.0.tar.gz’