| Back to Multiple platform build/check report for BioC 3.8 experimental data | 
This page was generated on 2019-04-16 15:26:09 -0400 (Tue, 16 Apr 2019).
| Package 358/360 | Hostname | OS / Arch | INSTALL | BUILD | CHECK | BUILD BIN | ||||||
| yri1kgv 0.24.0 VJ Carey 
 | malbec1 | Linux (Ubuntu 16.04.6 LTS) / x86_64 | OK | [ OK ] | OK |  | 
| Package: yri1kgv | 
| Version: 0.24.0 | 
| Command: /home/biocbuild/bbs-3.8-bioc/R/bin/R CMD build --keep-empty-dirs --no-resave-data yri1kgv | 
| StartedAt: 2019-04-16 12:32:36 -0400 (Tue, 16 Apr 2019) | 
| EndedAt: 2019-04-16 12:33:06 -0400 (Tue, 16 Apr 2019) | 
| EllapsedTime: 29.7 seconds | 
| RetCode: 0 | 
| Status: OK | 
| PackageFile: yri1kgv_0.24.0.tar.gz | 
| PackageFileSize: 323.3 MiB | 
############################################################################## ############################################################################## ### ### Running command: ### ### /home/biocbuild/bbs-3.8-bioc/R/bin/R CMD build --keep-empty-dirs --no-resave-data yri1kgv ### ############################################################################## ############################################################################## * checking for file ‘yri1kgv/DESCRIPTION’ ... OK * preparing ‘yri1kgv’: * checking DESCRIPTION meta-information ... OK * checking for LF line-endings in source and make files and shell scripts * checking for empty or unneeded directories * looking to see if a ‘data/datalist’ file should be added * building ‘yri1kgv_0.24.0.tar.gz’