| Back to Multiple platform build/check report for BioC 3.8 experimental data | 
This page was generated on 2019-04-16 15:26:02 -0400 (Tue, 16 Apr 2019).
| Package 357/360 | Hostname | OS / Arch | INSTALL | BUILD | CHECK | BUILD BIN | ||||||
| yeastRNASeq 0.20.0 J. Bullard 
 | malbec1 | Linux (Ubuntu 16.04.6 LTS) / x86_64 | OK | [ OK ] | WARNINGS |  | 
| Package: yeastRNASeq | 
| Version: 0.20.0 | 
| Command: /home/biocbuild/bbs-3.8-bioc/R/bin/R CMD build --keep-empty-dirs --no-resave-data yeastRNASeq | 
| StartedAt: 2019-04-16 12:21:19 -0400 (Tue, 16 Apr 2019) | 
| EndedAt: 2019-04-16 12:22:12 -0400 (Tue, 16 Apr 2019) | 
| EllapsedTime: 52.4 seconds | 
| RetCode: 0 | 
| Status: OK | 
| PackageFile: yeastRNASeq_0.20.0.tar.gz | 
| PackageFileSize: 306.9 MiB | 
############################################################################## ############################################################################## ### ### Running command: ### ### /home/biocbuild/bbs-3.8-bioc/R/bin/R CMD build --keep-empty-dirs --no-resave-data yeastRNASeq ### ############################################################################## ############################################################################## * checking for file ‘yeastRNASeq/DESCRIPTION’ ... OK * preparing ‘yeastRNASeq’: * checking DESCRIPTION meta-information ... OK * installing the package to build vignettes * creating vignettes ... OK * checking for LF line-endings in source and make files and shell scripts * checking for empty or unneeded directories * looking to see if a ‘data/datalist’ file should be added * building ‘yeastRNASeq_0.20.0.tar.gz’