| Back to Multiple platform build/check report for BioC 3.8 experimental data |
This page was generated on 2019-04-16 15:26:12 -0400 (Tue, 16 Apr 2019).
| Package 307/360 | Hostname | OS / Arch | INSTALL | BUILD | CHECK | BUILD BIN | ||||||
| seq2pathway.data 1.14.0 Xinan Holly Yang
| malbec1 | Linux (Ubuntu 16.04.6 LTS) / x86_64 | [ OK ] | OK | OK |
| Package: seq2pathway.data |
| Version: 1.14.0 |
| Command: /home/biocbuild/bbs-3.8-bioc/R/bin/R CMD INSTALL seq2pathway.data |
| StartedAt: 2019-04-16 12:02:21 -0400 (Tue, 16 Apr 2019) |
| EndedAt: 2019-04-16 12:02:55 -0400 (Tue, 16 Apr 2019) |
| EllapsedTime: 34.1 seconds |
| RetCode: 0 |
| Status: OK |
############################################################################## ############################################################################## ### ### Running command: ### ### /home/biocbuild/bbs-3.8-bioc/R/bin/R CMD INSTALL seq2pathway.data ### ############################################################################## ############################################################################## * installing to library ‘/home/biocbuild/bbs-3.8-bioc/R/library’ * installing *source* package ‘seq2pathway.data’ ... ** data ** inst ** help *** installing help indices ** building package indices ** installing vignettes ** testing if installed package can be loaded * DONE (seq2pathway.data)