| Back to Multiple platform build/check report for BioC 3.8 experimental data | 
This page was generated on 2019-04-16 15:26:03 -0400 (Tue, 16 Apr 2019).
| Package 219/360 | Hostname | OS / Arch | INSTALL | BUILD | CHECK | BUILD BIN | ||||||
| mosaicsExample 1.20.0 Dongjun Chung 
 | malbec1 | Linux (Ubuntu 16.04.6 LTS) / x86_64 | OK | [ OK ] | OK |  | 
| Package: mosaicsExample | 
| Version: 1.20.0 | 
| Command: /home/biocbuild/bbs-3.8-bioc/R/bin/R CMD build --keep-empty-dirs --no-resave-data mosaicsExample | 
| StartedAt: 2019-04-16 12:22:17 -0400 (Tue, 16 Apr 2019) | 
| EndedAt: 2019-04-16 12:22:36 -0400 (Tue, 16 Apr 2019) | 
| EllapsedTime: 18.4 seconds | 
| RetCode: 0 | 
| Status: OK | 
| PackageFile: mosaicsExample_1.20.0.tar.gz | 
| PackageFileSize: 48.06 MiB | 
############################################################################## ############################################################################## ### ### Running command: ### ### /home/biocbuild/bbs-3.8-bioc/R/bin/R CMD build --keep-empty-dirs --no-resave-data mosaicsExample ### ############################################################################## ############################################################################## * checking for file ‘mosaicsExample/DESCRIPTION’ ... OK * preparing ‘mosaicsExample’: * checking DESCRIPTION meta-information ... OK * checking for LF line-endings in source and make files and shell scripts * checking for empty or unneeded directories * looking to see if a ‘data/datalist’ file should be added * building ‘mosaicsExample_1.20.0.tar.gz’