| Back to Multiple platform build/check report for BioC 3.8 experimental data | 
This page was generated on 2019-04-16 15:25:59 -0400 (Tue, 16 Apr 2019).
| Package 182/360 | Hostname | OS / Arch | INSTALL | BUILD | CHECK | BUILD BIN | ||||||
| kidpack 1.24.0 Wolfgang Huber 
 | malbec1 | Linux (Ubuntu 16.04.6 LTS) / x86_64 | [ OK ] | OK | WARNINGS |  | 
| Package: kidpack | 
| Version: 1.24.0 | 
| Command: /home/biocbuild/bbs-3.8-bioc/R/bin/R CMD INSTALL kidpack | 
| StartedAt: 2019-04-16 12:05:43 -0400 (Tue, 16 Apr 2019) | 
| EndedAt: 2019-04-16 12:05:54 -0400 (Tue, 16 Apr 2019) | 
| EllapsedTime: 10.4 seconds | 
| RetCode: 0 | 
| Status: OK | 
############################################################################## ############################################################################## ### ### Running command: ### ### /home/biocbuild/bbs-3.8-bioc/R/bin/R CMD INSTALL kidpack ### ############################################################################## ############################################################################## * installing to library ‘/home/biocbuild/bbs-3.8-bioc/R/library’ * installing *source* package ‘kidpack’ ... ** R ** data ** inst ** byte-compile and prepare package for lazy loading ** help *** installing help indices ** building package indices ** installing vignettes ** testing if installed package can be loaded *** Deprecation warning ***: The package 'kidpack' is deprecated and will not be supported after Bioconductor release 2.1. * DONE (kidpack)