| Back to Multiple platform build/check report for BioC 3.8 experimental data | 
This page was generated on 2019-04-16 15:26:16 -0400 (Tue, 16 Apr 2019).
| Package 101/360 | Hostname | OS / Arch | INSTALL | BUILD | CHECK | BUILD BIN | ||||||
| etec16s 1.10.0 Joseph N. Paulson 
 | malbec1 | Linux (Ubuntu 16.04.6 LTS) / x86_64 | [ OK ] | OK | OK |  | 
| Package: etec16s | 
| Version: 1.10.0 | 
| Command: /home/biocbuild/bbs-3.8-bioc/R/bin/R CMD INSTALL etec16s | 
| StartedAt: 2019-04-16 12:10:21 -0400 (Tue, 16 Apr 2019) | 
| EndedAt: 2019-04-16 12:10:35 -0400 (Tue, 16 Apr 2019) | 
| EllapsedTime: 13.6 seconds | 
| RetCode: 0 | 
| Status: OK | 
############################################################################## ############################################################################## ### ### Running command: ### ### /home/biocbuild/bbs-3.8-bioc/R/bin/R CMD INSTALL etec16s ### ############################################################################## ############################################################################## * installing to library ‘/home/biocbuild/bbs-3.8-bioc/R/library’ * installing *source* package ‘etec16s’ ... ** data *** moving datasets to lazyload DB ** inst ** help *** installing help indices ** building package indices ** installing vignettes ** testing if installed package can be loaded * DONE (etec16s)