| Back to Multiple platform build/check report for BioC 3.8 experimental data | 
This page was generated on 2018-04-29 12:59:50 -0400 (Sun, 29 Apr 2018).
| Package 49/342 | Hostname | OS / Arch | INSTALL | BUILD | CHECK | BUILD BIN | ||||||
| Vince Carey 
 | malbec1 | Linux (Ubuntu 16.04.1 LTS) / x86_64 | [ OK ] | OK | WARNINGS |  | 
| Package: cheung2010 | 
| Version: 0.17.3 | 
| Command: /home/biocbuild/bbs-3.8-bioc/R/bin/R CMD INSTALL cheung2010 | 
| StartedAt: 2018-04-29 09:11:45 -0400 (Sun, 29 Apr 2018) | 
| EndedAt: 2018-04-29 09:12:18 -0400 (Sun, 29 Apr 2018) | 
| EllapsedTime: 32.8 seconds | 
| RetCode: 0 | 
| Status: OK | 
############################################################################## ############################################################################## ### ### Running command: ### ### /home/biocbuild/bbs-3.8-bioc/R/bin/R CMD INSTALL cheung2010 ### ############################################################################## ############################################################################## * installing to library ‘/home/biocbuild/bbs-3.8-bioc/R/library’ * installing *source* package ‘cheung2010’ ... ** R ** data ** inst ** byte-compile and prepare package for lazy loading ** help *** installing help indices ** building package indices ** installing vignettes ** testing if installed package can be loaded Warning: Package 'cheung2010' is deprecated and will be removed from Bioconductor version 3.7 * DONE (cheung2010)