| Back to Multiple platform build/check report for BioC 3.8 experimental data | 
This page was generated on 2019-04-16 15:26:01 -0400 (Tue, 16 Apr 2019).
| Package 352/360 | Hostname | OS / Arch | INSTALL | BUILD | CHECK | BUILD BIN | ||||||
| XhybCasneuf 1.20.0 Tineke Casneuf 
 | malbec1 | Linux (Ubuntu 16.04.6 LTS) / x86_64 | [ OK ] | OK | WARNINGS |  | 
| Package: XhybCasneuf | 
| Version: 1.20.0 | 
| Command: /home/biocbuild/bbs-3.8-bioc/R/bin/R CMD INSTALL XhybCasneuf | 
| StartedAt: 2019-04-16 12:09:12 -0400 (Tue, 16 Apr 2019) | 
| EndedAt: 2019-04-16 12:09:22 -0400 (Tue, 16 Apr 2019) | 
| EllapsedTime: 10.7 seconds | 
| RetCode: 0 | 
| Status: OK | 
############################################################################## ############################################################################## ### ### Running command: ### ### /home/biocbuild/bbs-3.8-bioc/R/bin/R CMD INSTALL XhybCasneuf ### ############################################################################## ############################################################################## * installing to library ‘/home/biocbuild/bbs-3.8-bioc/R/library’ * installing *source* package ‘XhybCasneuf’ ... ** R ** data ** byte-compile and prepare package for lazy loading Warning: replacing previous import ‘AnnotationDbi::tail’ by ‘utils::tail’ when loading ‘ath1121501cdf’ Warning: replacing previous import ‘AnnotationDbi::head’ by ‘utils::head’ when loading ‘ath1121501cdf’ ** help *** installing help indices ** building package indices ** installing vignettes ** testing if installed package can be loaded Warning: replacing previous import ‘AnnotationDbi::tail’ by ‘utils::tail’ when loading ‘ath1121501cdf’ Warning: replacing previous import ‘AnnotationDbi::head’ by ‘utils::head’ when loading ‘ath1121501cdf’ * DONE (XhybCasneuf)