| Back to Multiple platform build/check report for BioC 3.8 experimental data | 
This page was generated on 2019-04-16 15:26:09 -0400 (Tue, 16 Apr 2019).
| Package 268/360 | Hostname | OS / Arch | INSTALL | BUILD | CHECK | BUILD BIN | ||||||
| PWMEnrich.Mmusculus.background 4.16.0 Robert Stojnic 
 | malbec1 | Linux (Ubuntu 16.04.6 LTS) / x86_64 | OK | [ OK ] | OK |  | 
| Package: PWMEnrich.Mmusculus.background | 
| Version: 4.16.0 | 
| Command: /home/biocbuild/bbs-3.8-bioc/R/bin/R CMD build --keep-empty-dirs --no-resave-data PWMEnrich.Mmusculus.background | 
| StartedAt: 2019-04-16 12:31:15 -0400 (Tue, 16 Apr 2019) | 
| EndedAt: 2019-04-16 12:31:18 -0400 (Tue, 16 Apr 2019) | 
| EllapsedTime: 3.1 seconds | 
| RetCode: 0 | 
| Status: OK | 
| PackageFile: PWMEnrich.Mmusculus.background_4.16.0.tar.gz | 
| PackageFileSize: 10.34 MiB | 
############################################################################## ############################################################################## ### ### Running command: ### ### /home/biocbuild/bbs-3.8-bioc/R/bin/R CMD build --keep-empty-dirs --no-resave-data PWMEnrich.Mmusculus.background ### ############################################################################## ############################################################################## * checking for file ‘PWMEnrich.Mmusculus.background/DESCRIPTION’ ... OK * preparing ‘PWMEnrich.Mmusculus.background’: * checking DESCRIPTION meta-information ... OK * checking for LF line-endings in source and make files and shell scripts * checking for empty or unneeded directories * looking to see if a ‘data/datalist’ file should be added * building ‘PWMEnrich.Mmusculus.background_4.16.0.tar.gz’