| Back to Multiple platform build/check report for BioC 3.8 experimental data | 
This page was generated on 2019-04-16 15:25:59 -0400 (Tue, 16 Apr 2019).
| Package 134/360 | Hostname | OS / Arch | INSTALL | BUILD | CHECK | BUILD BIN | ||||||
| GGdata 1.20.0 VJ Carey 
 | malbec1 | Linux (Ubuntu 16.04.6 LTS) / x86_64 | [ OK ] | OK | OK |  | 
| Package: GGdata | 
| Version: 1.20.0 | 
| Command: /home/biocbuild/bbs-3.8-bioc/R/bin/R CMD INSTALL GGdata | 
| StartedAt: 2019-04-16 12:09:45 -0400 (Tue, 16 Apr 2019) | 
| EndedAt: 2019-04-16 12:10:25 -0400 (Tue, 16 Apr 2019) | 
| EllapsedTime: 39.6 seconds | 
| RetCode: 0 | 
| Status: OK | 
############################################################################## ############################################################################## ### ### Running command: ### ### /home/biocbuild/bbs-3.8-bioc/R/bin/R CMD INSTALL GGdata ### ############################################################################## ############################################################################## * installing to library ‘/home/biocbuild/bbs-3.8-bioc/R/library’ * installing *source* package ‘GGdata’ ... ** R ** data ** inst ** byte-compile and prepare package for lazy loading ** help *** installing help indices ** building package indices ** testing if installed package can be loaded * DONE (GGdata)