| Back to Multiple platform build/check report for BioC 3.8 experimental data | 
This page was generated on 2019-04-16 15:26:13 -0400 (Tue, 16 Apr 2019).
| Package 99/360 | Hostname | OS / Arch | INSTALL | BUILD | CHECK | BUILD BIN | ||||||
| ELMER.data 2.6.0 Tiago Chedraoui Silva 
 | malbec1 | Linux (Ubuntu 16.04.6 LTS) / x86_64 | OK | [ OK ] | OK |  | 
| Package: ELMER.data | 
| Version: 2.6.0 | 
| Command: /home/biocbuild/bbs-3.8-bioc/R/bin/R CMD build --keep-empty-dirs --no-resave-data ELMER.data | 
| StartedAt: 2019-04-16 12:38:49 -0400 (Tue, 16 Apr 2019) | 
| EndedAt: 2019-04-16 12:42:46 -0400 (Tue, 16 Apr 2019) | 
| EllapsedTime: 237.8 seconds | 
| RetCode: 0 | 
| Status: OK | 
| PackageFile: ELMER.data_2.6.0.tar.gz | 
| PackageFileSize: 286.8 MiB | 
##############################################################################
##############################################################################
###
### Running command:
###
###   /home/biocbuild/bbs-3.8-bioc/R/bin/R CMD build --keep-empty-dirs --no-resave-data ELMER.data
###
##############################################################################
##############################################################################
* checking for file ‘ELMER.data/DESCRIPTION’ ... OK
* preparing ‘ELMER.data’:
* checking DESCRIPTION meta-information ... OK
* installing the package to build vignettes
* creating vignettes ... OK
Warning: ‘inst/doc’ files
    ‘vignettes.Rmd’, ‘vignettes.html’, ‘vignettes.R’
  ignored as vignettes have been rebuilt.
  Run R CMD build with --no-build-vignettes to prevent rebuilding.
* checking for LF line-endings in source and make files and shell scripts
* checking for empty or unneeded directories
* looking to see if a ‘data/datalist’ file should be added
* building ‘ELMER.data_2.6.0.tar.gz’