| Back to Multiple platform build/check report for BioC 3.8 experimental data | 
This page was generated on 2019-04-16 15:26:07 -0400 (Tue, 16 Apr 2019).
| Package 94/360 | Hostname | OS / Arch | INSTALL | BUILD | CHECK | BUILD BIN | ||||||
| DvDdata 1.18.0 J. Saez-Rodriguez 
 | malbec1 | Linux (Ubuntu 16.04.6 LTS) / x86_64 | [ OK ] | OK | OK |  | 
| Package: DvDdata | 
| Version: 1.18.0 | 
| Command: /home/biocbuild/bbs-3.8-bioc/R/bin/R CMD INSTALL DvDdata | 
| StartedAt: 2019-04-16 12:03:57 -0400 (Tue, 16 Apr 2019) | 
| EndedAt: 2019-04-16 12:04:27 -0400 (Tue, 16 Apr 2019) | 
| EllapsedTime: 30.6 seconds | 
| RetCode: 0 | 
| Status: OK | 
############################################################################## ############################################################################## ### ### Running command: ### ### /home/biocbuild/bbs-3.8-bioc/R/bin/R CMD INSTALL DvDdata ### ############################################################################## ############################################################################## * installing to library ‘/home/biocbuild/bbs-3.8-bioc/R/library’ * installing *source* package ‘DvDdata’ ... ** data *** moving datasets to lazyload DB ** help *** installing help indices ** building package indices ** installing vignettes ** testing if installed package can be loaded * DONE (DvDdata)