| Back to Multiple platform build/check report for BioC 3.8 experimental data | 
This page was generated on 2019-04-16 15:26:10 -0400 (Tue, 16 Apr 2019).
| Package 55/360 | Hostname | OS / Arch | INSTALL | BUILD | CHECK | BUILD BIN | ||||||
| ChimpHumanBrainData 1.20.0 Sean Davis 
 | malbec1 | Linux (Ubuntu 16.04.6 LTS) / x86_64 | OK | [ OK ] | OK |  | 
| Package: ChimpHumanBrainData | 
| Version: 1.20.0 | 
| Command: /home/biocbuild/bbs-3.8-bioc/R/bin/R CMD build --keep-empty-dirs --no-resave-data ChimpHumanBrainData | 
| StartedAt: 2019-04-16 12:32:47 -0400 (Tue, 16 Apr 2019) | 
| EndedAt: 2019-04-16 12:34:04 -0400 (Tue, 16 Apr 2019) | 
| EllapsedTime: 77.0 seconds | 
| RetCode: 0 | 
| Status: OK | 
| PackageFile: ChimpHumanBrainData_1.20.0.tar.gz | 
| PackageFileSize: 64.96 MiB | 
############################################################################## ############################################################################## ### ### Running command: ### ### /home/biocbuild/bbs-3.8-bioc/R/bin/R CMD build --keep-empty-dirs --no-resave-data ChimpHumanBrainData ### ############################################################################## ############################################################################## * checking for file ‘ChimpHumanBrainData/DESCRIPTION’ ... OK * preparing ‘ChimpHumanBrainData’: * checking DESCRIPTION meta-information ... OK * installing the package to build vignettes * creating vignettes ... OK * checking for LF line-endings in source and make files and shell scripts * checking for empty or unneeded directories * building ‘ChimpHumanBrainData_1.20.0.tar.gz’