| Back to Multiple platform build/check report for BioC 3.8 |
|
This page was generated on 2019-04-16 12:00:43 -0400 (Tue, 16 Apr 2019).
| Package 1648/1649 | Hostname | OS / Arch | INSTALL | BUILD | CHECK | BUILD BIN | ||||||
| zinbwave 1.4.2 Davide Risso
| malbec1 | Linux (Ubuntu 16.04.6 LTS) / x86_64 | OK | OK | OK | |||||||
| merida1 | OS X 10.11.6 El Capitan / x86_64 | ERROR | [ ERROR ] | skipped | skipped |
| Package: zinbwave |
| Version: 1.4.2 |
| Command: /Library/Frameworks/R.framework/Versions/Current/Resources/bin/R CMD build --keep-empty-dirs --no-resave-data zinbwave |
| StartedAt: 2019-04-15 21:23:39 -0400 (Mon, 15 Apr 2019) |
| EndedAt: 2019-04-15 21:23:48 -0400 (Mon, 15 Apr 2019) |
| EllapsedTime: 9.4 seconds |
| RetCode: 1 |
| Status: ERROR |
| PackageFile: None |
| PackageFileSize: NA |
##############################################################################
##############################################################################
###
### Running command:
###
### /Library/Frameworks/R.framework/Versions/Current/Resources/bin/R CMD build --keep-empty-dirs --no-resave-data zinbwave
###
##############################################################################
##############################################################################
* checking for file ‘zinbwave/DESCRIPTION’ ... OK
* preparing ‘zinbwave’:
* checking DESCRIPTION meta-information ... OK
* installing the package to build vignettes
-----------------------------------
* installing *source* package ‘zinbwave’ ...
** R
** data
*** moving datasets to lazyload DB
** inst
** byte-compile and prepare package for lazy loading
Error in loadNamespace(j <- i[[1L]], c(lib.loc, .libPaths()), versionCheck = vI[[j]]) :
there is no package called ‘gsl’
ERROR: lazy loading failed for package ‘zinbwave’
* removing ‘/private/tmp/RtmpjskuXA/Rinstf7406af7b5bc/zinbwave’
-----------------------------------
ERROR: package installation failed