| Back to Multiple platform build/check report for BioC 3.8 |
|
This page was generated on 2019-04-13 11:27:19 -0400 (Sat, 13 Apr 2019).
| Package 1646/1649 | Hostname | OS / Arch | INSTALL | BUILD | CHECK | BUILD BIN | ||||||
| yarn 1.8.1 Joseph N Paulson
| malbec1 | Linux (Ubuntu 16.04.6 LTS) / x86_64 | OK | OK | NA | |||||||
| tokay1 | Windows Server 2012 R2 Standard / x64 | OK | OK | WARNINGS | [ OK ] | |||||||
| merida1 | OS X 10.11.6 El Capitan / x86_64 | OK | OK | OK | OK |
| Package: yarn |
| Version: 1.8.1 |
| Command: rm -rf yarn.buildbin-libdir && mkdir yarn.buildbin-libdir && C:\Users\biocbuild\bbs-3.8-bioc\R\bin\R.exe CMD INSTALL --merge-multiarch --build --library=yarn.buildbin-libdir yarn_1.8.1.tar.gz |
| StartedAt: 2019-04-13 08:04:30 -0400 (Sat, 13 Apr 2019) |
| EndedAt: 2019-04-13 08:05:05 -0400 (Sat, 13 Apr 2019) |
| EllapsedTime: 34.9 seconds |
| RetCode: 0 |
| Status: OK |
| PackageFile: yarn_1.8.1.zip |
| PackageFileSize: 4.246 MiB |
##############################################################################
##############################################################################
###
### Running command:
###
### rm -rf yarn.buildbin-libdir && mkdir yarn.buildbin-libdir && C:\Users\biocbuild\bbs-3.8-bioc\R\bin\R.exe CMD INSTALL --merge-multiarch --build --library=yarn.buildbin-libdir yarn_1.8.1.tar.gz
###
##############################################################################
##############################################################################
install for i386
* installing *source* package 'yarn' ...
** R
** data
*** moving datasets to lazyload DB
** inst
** byte-compile and prepare package for lazy loading
** help
*** installing help indices
converting help for package 'yarn'
finding HTML links ... done
annotateFromBiomart html
bladder html
Rd warning: C:/Users/biocbuild/bbs-3.8-bioc/tmpdir/Rtmpuo8ACU/R.INSTALL35587b7cea4/yarn/man/bladder.Rd:7: file link 'ExpressionSet' in package 'Biobase' does not exist and so has been treated as a topic
checkMisAnnotation html
checkTissuesToMerge html
downloadGTEx html
extractMatrix html
filterGenes html
filterLowGenes html
filterMissingGenes html
filterSamples html
normalizeTissueAware html
plotCMDS html
plotDensity html
plotHeatmap html
qsmooth html
qstats html
skin html
Rd warning: C:/Users/biocbuild/bbs-3.8-bioc/tmpdir/Rtmpuo8ACU/R.INSTALL35587b7cea4/yarn/man/skin.Rd:7: file link 'ExpressionSet' in package 'Biobase' does not exist and so has been treated as a topic
** building package indices
** installing vignettes
** testing if installed package can be loaded
In R CMD INSTALL
install for x64
* installing *source* package 'yarn' ...
** testing if installed package can be loaded
* MD5 sums
packaged installation of 'yarn' as yarn_1.8.1.zip
* DONE (yarn)
In R CMD INSTALL
In R CMD INSTALL