| Back to Multiple platform build/check report for BioC 3.8 |
|
This page was generated on 2019-04-16 11:48:28 -0400 (Tue, 16 Apr 2019).
| Package 1645/1649 | Hostname | OS / Arch | INSTALL | BUILD | CHECK | BUILD BIN | ||||||
| yaqcaffy 1.42.0 Laurent Gatto
| malbec1 | Linux (Ubuntu 16.04.6 LTS) / x86_64 | OK | [ OK ] | OK | |||||||
| merida1 | OS X 10.11.6 El Capitan / x86_64 | OK | OK | OK | OK |
| Package: yaqcaffy |
| Version: 1.42.0 |
| Command: /home/biocbuild/bbs-3.8-bioc/R/bin/R CMD build --keep-empty-dirs --no-resave-data yaqcaffy |
| StartedAt: 2019-04-15 18:46:01 -0400 (Mon, 15 Apr 2019) |
| EndedAt: 2019-04-15 18:46:50 -0400 (Mon, 15 Apr 2019) |
| EllapsedTime: 49.0 seconds |
| RetCode: 0 |
| Status: OK |
| PackageFile: yaqcaffy_1.42.0.tar.gz |
| PackageFileSize: 342.3 KiB |
############################################################################## ############################################################################## ### ### Running command: ### ### /home/biocbuild/bbs-3.8-bioc/R/bin/R CMD build --keep-empty-dirs --no-resave-data yaqcaffy ### ############################################################################## ############################################################################## * checking for file ‘yaqcaffy/DESCRIPTION’ ... OK * preparing ‘yaqcaffy’: * checking DESCRIPTION meta-information ... OK * installing the package to build vignettes * creating vignettes ... OK * checking for LF line-endings in source and make files and shell scripts * checking for empty or unneeded directories * building ‘yaqcaffy_1.42.0.tar.gz’