| Back to Multiple platform build/check report for BioC 3.8 |
|
This page was generated on 2019-04-13 11:22:32 -0400 (Sat, 13 Apr 2019).
| Package 1628/1649 | Hostname | OS / Arch | INSTALL | BUILD | CHECK | BUILD BIN | ||||||
| wateRmelon 1.26.0 Leo
| malbec1 | Linux (Ubuntu 16.04.6 LTS) / x86_64 | OK | OK | NA | |||||||
| tokay1 | Windows Server 2012 R2 Standard / x64 | OK | OK | WARNINGS | [ OK ] | |||||||
| merida1 | OS X 10.11.6 El Capitan / x86_64 | OK | OK | WARNINGS | OK |
| Package: wateRmelon |
| Version: 1.26.0 |
| Command: rm -rf wateRmelon.buildbin-libdir && mkdir wateRmelon.buildbin-libdir && C:\Users\biocbuild\bbs-3.8-bioc\R\bin\R.exe CMD INSTALL --merge-multiarch --build --library=wateRmelon.buildbin-libdir wateRmelon_1.26.0.tar.gz |
| StartedAt: 2019-04-13 08:03:46 -0400 (Sat, 13 Apr 2019) |
| EndedAt: 2019-04-13 08:04:38 -0400 (Sat, 13 Apr 2019) |
| EllapsedTime: 51.4 seconds |
| RetCode: 0 |
| Status: OK |
| PackageFile: wateRmelon_1.26.0.zip |
| PackageFileSize: 1.414 MiB |
##############################################################################
##############################################################################
###
### Running command:
###
### rm -rf wateRmelon.buildbin-libdir && mkdir wateRmelon.buildbin-libdir && C:\Users\biocbuild\bbs-3.8-bioc\R\bin\R.exe CMD INSTALL --merge-multiarch --build --library=wateRmelon.buildbin-libdir wateRmelon_1.26.0.tar.gz
###
##############################################################################
##############################################################################
install for i386
* installing *source* package 'wateRmelon' ...
** R
** data
** inst
** byte-compile and prepare package for lazy loading
Creating a generic function from function 'as.methylumi' in package 'wateRmelon'
Note: possible error in 'preprocessIlluminaMethylation(path2data = path2data, ': unused arguments (path2data = path2data, path2controlData = path2controlData, projectName = projectName)
** help
*** installing help indices
converting help for package 'wateRmelon'
finding HTML links ... done
BMIQ html
Beta2M html
adaptRefQuantiles html
agep html
as.methylumi-methods html
beadc html
beadcount html
bscon html
colnames-methods html
combo html
dasen-MethyLumiSet html
dasen-MethySet html
dasen-exprmethy450 html
dasen html
db1 html
dmrse-methods html
dmrse html
estimateCellCounts.wmln html
genki-methods html
genki html
genkme html
got html
iDMR html
melon html
metrics html
outlyx-methods html
outlyx html
pfilter html
predictSex html
pwod-methods html
pwod html
qual html
readEPIC html
seabi-methods html
seabi html
seabird html
sextest html
wateRmelon-package html
wm_internal html
** building package indices
** installing vignettes
** testing if installed package can be loaded
In R CMD INSTALL
install for x64
* installing *source* package 'wateRmelon' ...
** testing if installed package can be loaded
* MD5 sums
packaged installation of 'wateRmelon' as wateRmelon_1.26.0.zip
* DONE (wateRmelon)
In R CMD INSTALL
In R CMD INSTALL