| Back to Multiple platform build/check report for BioC 3.8 | 
 | 
This page was generated on 2019-04-13 11:27:07 -0400 (Sat, 13 Apr 2019).
| Package 1614/1649 | Hostname | OS / Arch | INSTALL | BUILD | CHECK | BUILD BIN | ||||||
| uSORT 1.8.1 Hao Chen 
 | malbec1 | Linux (Ubuntu 16.04.6 LTS) / x86_64 | OK | OK | NA | |||||||
| tokay1 | Windows Server 2012 R2 Standard / x64 | OK | OK | WARNINGS | [ OK ] |  | ||||||
| merida1 | OS X 10.11.6 El Capitan / x86_64 | OK | OK | WARNINGS | OK |  | 
| Package: uSORT | 
| Version: 1.8.1 | 
| Command: rm -rf uSORT.buildbin-libdir && mkdir uSORT.buildbin-libdir && C:\Users\biocbuild\bbs-3.8-bioc\R\bin\R.exe CMD INSTALL --merge-multiarch --build --library=uSORT.buildbin-libdir uSORT_1.8.1.tar.gz | 
| StartedAt: 2019-04-13 08:03:21 -0400 (Sat, 13 Apr 2019) | 
| EndedAt: 2019-04-13 08:03:41 -0400 (Sat, 13 Apr 2019) | 
| EllapsedTime: 19.9 seconds | 
| RetCode: 0 | 
| Status: OK | 
| PackageFile: uSORT_1.8.1.zip | 
| PackageFileSize: 2.005 MiB | 
##############################################################################
##############################################################################
###
### Running command:
###
###   rm -rf uSORT.buildbin-libdir && mkdir uSORT.buildbin-libdir && C:\Users\biocbuild\bbs-3.8-bioc\R\bin\R.exe CMD INSTALL --merge-multiarch --build --library=uSORT.buildbin-libdir uSORT_1.8.1.tar.gz
###
##############################################################################
##############################################################################
install for i386
* installing *source* package 'uSORT' ...
** R
** inst
** byte-compile and prepare package for lazy loading
Note: break used in wrong context: no loop is visible 
** help
*** installing help indices
  converting help for package 'uSORT'
    finding HTML links ... done
    EXP_to_CellDataSet                      html  
    Rwanderlust                             html  
    SPIN                                    html  
    STS_sorting                             html  
    STS_sorting_wrapper                     html  
    STS_sortingcost                         html  
    autoSPIN                                html  
    clusterGenes1                           html  
    compareModels1                          html  
    diff_test_helper1                       html  
    differentialGeneTest1                   html  
    distance.function                       html  
    driving_force_gene_selection            html  
    elbow_detection                         html  
    fluidigmSC_analyzeGeneDetection         html  
    fluidigmSC_identifyExpOutliers          html  
    fluidigmSC_isElementIgnoreCase          html  
    fluidigmSC_readLinearExp                html  
    fluidigmSC_removeGenesByLinearExpForAllType
                                            html  
    fluidigmSC_removeGenesByLinearExpForAllType_log2
                                            html  
    monocle_wrapper                         html  
    neighborhood_sorting                    html  
    neighborhood_sorting_wrapper            html  
    neighborhood_sortingcost                html  
    pca_gene_selection                      html  
    sWanderlust                             html  
    scattering_quantification_per_gene      html  
    sorting_method_parameter_GUI            html  
    summed_local_variance                   html  
    summed_local_variance_cyclical          html  
    summed_local_variance_linear            html  
    trajectory_landmarks                    html  
    uSORT                                   html  
    uSORT_GUI                               html  
    uSORT_parameters_GUI                    html  
    uSORT_preProcess                        html  
    uSORT_sorting_wrapper                   html  
    uSORT_write_results                     html  
    variability_per_gene                    html  
    wanderlust_wrapper                      html  
** building package indices
** installing vignettes
** testing if installed package can be loaded
In R CMD INSTALL
install for x64
* installing *source* package 'uSORT' ...
** testing if installed package can be loaded
* MD5 sums
packaged installation of 'uSORT' as uSORT_1.8.1.zip
* DONE (uSORT)
In R CMD INSTALL
In R CMD INSTALL