| Back to Multiple platform build/check report for BioC 3.8 |
|
This page was generated on 2019-04-13 11:27:34 -0400 (Sat, 13 Apr 2019).
| Package 1603/1649 | Hostname | OS / Arch | INSTALL | BUILD | CHECK | BUILD BIN | ||||||
| twoddpcr 1.6.0 Anthony Chiu
| malbec1 | Linux (Ubuntu 16.04.6 LTS) / x86_64 | OK | OK | NA | |||||||
| tokay1 | Windows Server 2012 R2 Standard / x64 | OK | OK | OK | [ OK ] | |||||||
| merida1 | OS X 10.11.6 El Capitan / x86_64 | OK | OK | OK | OK |
| Package: twoddpcr |
| Version: 1.6.0 |
| Command: rm -rf twoddpcr.buildbin-libdir && mkdir twoddpcr.buildbin-libdir && C:\Users\biocbuild\bbs-3.8-bioc\R\bin\R.exe CMD INSTALL --merge-multiarch --build --library=twoddpcr.buildbin-libdir twoddpcr_1.6.0.tar.gz |
| StartedAt: 2019-04-13 08:03:03 -0400 (Sat, 13 Apr 2019) |
| EndedAt: 2019-04-13 08:03:23 -0400 (Sat, 13 Apr 2019) |
| EllapsedTime: 19.9 seconds |
| RetCode: 0 |
| Status: OK |
| PackageFile: twoddpcr_1.6.0.zip |
| PackageFileSize: 2.768 MiB |
##############################################################################
##############################################################################
###
### Running command:
###
### rm -rf twoddpcr.buildbin-libdir && mkdir twoddpcr.buildbin-libdir && C:\Users\biocbuild\bbs-3.8-bioc\R\bin\R.exe CMD INSTALL --merge-multiarch --build --library=twoddpcr.buildbin-libdir twoddpcr_1.6.0.tar.gz
###
##############################################################################
##############################################################################
install for i386
* installing *source* package 'twoddpcr' ...
** R
** data
*** moving datasets to lazyload DB
** inst
** byte-compile and prepare package for lazy loading
** help
*** installing help indices
converting help for package 'twoddpcr'
finding HTML links ... done
KRAScounts html
KRASdata html
amplitudes html
basicsSummary html
castSummary html
classCov html
classMeans html
classStats html
clusterCentres html
copiesSummary html
ddpcr html
ddpcrPlate-class html
ddpcrWell-class html
ddpcrWell-methods html
drawBlank html
dropletPlot html
elementType-SimpleList-method html
exportTable html
extractPlateName html
extractWellNames html
facetPlot html
flatPlot html
fullCopiesSummary html
fullCountsSummary html
getCutOff html
ggplot.well html
gridClassify html
heatPlot html
kmeansClassify html
knnClassify html
mahalanobisRain html
mutantCopiesSummary html
numDroplets html
numericInputRow html
parseClusterCounts html
plateClassification html
plateClassificationMethod html
plateSummary html
positiveCounts html
readCSVDataFrame html
relabelClasses html
removeDropletClasses html
renormalisePlate html
sdRain html
setChannelNames html
setDropletVolume html
shinyVis html
shinyVisApp html
shinyVisServer html
shinyVisUI html
sortDataFrame html
sortWells html
textInputRow html
thresholdClassify html
twoddpcr-package html
wellClassification html
wellClassificationMethod html
whiteTheme html
wildTypeCopiesSummary html
** building package indices
** installing vignettes
** testing if installed package can be loaded
In R CMD INSTALL
install for x64
* installing *source* package 'twoddpcr' ...
** testing if installed package can be loaded
* MD5 sums
packaged installation of 'twoddpcr' as twoddpcr_1.6.0.zip
* DONE (twoddpcr)
In R CMD INSTALL
In R CMD INSTALL