| Back to Multiple platform build/check report for BioC 3.8 |
|
This page was generated on 2018-11-18 11:20:29 -0500 (Sun, 18 Nov 2018).
| Package 1584/1649 | Hostname | OS / Arch | INSTALL | BUILD | CHECK | BUILD BIN | ||||||
| trena 1.4.0 Paul Shannon
| malbec1 | Linux (Ubuntu 16.04.1 LTS) / x86_64 | OK | OK | ERROR | |||||||
| tokay1 | Windows Server 2012 R2 Standard / x64 | OK | OK | ERROR | [ OK ] | |||||||
| merida1 | OS X 10.11.6 El Capitan / x86_64 | OK | OK | OK | OK |
| Package: trena |
| Version: 1.4.0 |
| Command: rm -rf trena.buildbin-libdir && mkdir trena.buildbin-libdir && C:\Users\biocbuild\bbs-3.8-bioc\R\bin\R.exe CMD INSTALL --build --library=trena.buildbin-libdir trena_1.4.0.tar.gz |
| StartedAt: 2018-11-18 08:05:30 -0500 (Sun, 18 Nov 2018) |
| EndedAt: 2018-11-18 08:06:41 -0500 (Sun, 18 Nov 2018) |
| EllapsedTime: 70.8 seconds |
| RetCode: 0 |
| Status: OK |
| PackageFile: trena_1.4.0.zip |
| PackageFileSize: 1.836 MiB |
##############################################################################
##############################################################################
###
### Running command:
###
### rm -rf trena.buildbin-libdir && mkdir trena.buildbin-libdir && C:\Users\biocbuild\bbs-3.8-bioc\R\bin\R.exe CMD INSTALL --build --library=trena.buildbin-libdir trena_1.4.0.tar.gz
###
##############################################################################
##############################################################################
* installing *source* package 'trena' ...
** R
** inst
** byte-compile and prepare package for lazy loading
See system.file("LICENSE", package="MotifDb") for use restrictions.
** help
*** installing help indices
converting help for package 'trena'
finding HTML links ... done
BayesSpikeSolver-class html
BayesSpikeSolver html
CandidateFilter-class html
EnsembleSolver-class html
EnsembleSolver html
FootprintFilter-class html
FootprintFinder-class html
GeneOntologyFilter-class html
HumanDHSFilter-class html
LassoPVSolver-class html
LassoPVSolver html
LassoSolver-class html
LassoSolver html
MotifMatcher-class html
finding level-2 HTML links ... done
PCAMax html
PearsonSolver-class html
PearsonSolver html
RandomForestSolver-class html
RandomForestSolver html
RidgeSolver-class html
RidgeSolver html
Solver-class html
SpearmanSolver-class html
SpearmanSolver html
SqrtLassoSolver-class html
SqrtLassoSolver html
TReNA-package html
Trena-class html
VarianceFilter-class html
addStats html
addStatsSimple html
assessSnp html
closeDatabaseConnections html
createGeneModelFromRegulatoryRegions html
createGeneModelFromTfList html
elasticNetSolver html
findMatchesByChromosomalRegion html
getAssayData html
getAvailableSolvers html
getCandidates-FootprintFilter-method html
getCandidates-GeneOntologyFilter-method
html
getCandidates-HumanDHSFilter-method html
getCandidates-VarianceFilter-method html
getCandidates html
getChromLoc html
getCoverage html
getEncodeRegulatoryTableNames-HumanDHSFilter
html
getFootprintsForGene html
getFootprintsInRegion html
getGeneModelTableColumnNames html
getGenePromoterRegion html
getGtfGeneBioTypes html
getGtfMoleculeTypes html
getPfms html
getPromoterRegionsAllGenes html
getProximalPromoter html
getRegulators html
getRegulatoryChromosomalRegions html
getRegulatoryRegions html
getRegulatoryTableColumnNames html
getSequence html
getSolverNames html
getTarget html
normalizeModel html
parseChromLocString html
parseDatabaseUri html
rescalePredictorWeights html
run html
show-HumanDHSFilter-method html
show.BayesSpikeSolver html
show.EnsembleSolver html
show.LassoPVSolver html
show.LassoSolver html
show.MotifMatcher html
show.PearsonSolver html
show.RandomForestSolver html
show.RidgeSolver html
show.SpearmanSolver html
show.SqrtLassoSolver html
solve.BayesSpike html
solve.Ensemble html
solve.Lasso html
solve.LassoPV html
solve.Pearson html
solve.RandomForest html
solve.Ridge html
solve.Spearman html
solve.SqrtLasso html
** building package indices
** installing vignettes
** testing if installed package can be loaded
*** arch - i386
See system.file("LICENSE", package="MotifDb") for use restrictions.
*** arch - x64
See system.file("LICENSE", package="MotifDb") for use restrictions.
* MD5 sums
packaged installation of 'trena' as trena_1.4.0.zip
* DONE (trena)
In R CMD INSTALL