| Back to Multiple platform build/check report for BioC 3.8 |
|
This page was generated on 2019-04-16 11:53:51 -0400 (Tue, 16 Apr 2019).
| Package 1579/1649 | Hostname | OS / Arch | INSTALL | BUILD | CHECK | BUILD BIN | ||||||
| transite 1.0.2 Konstantin Krismer
| malbec1 | Linux (Ubuntu 16.04.6 LTS) / x86_64 | OK | OK | [ OK ] | |||||||
| merida1 | OS X 10.11.6 El Capitan / x86_64 | OK | OK | OK | OK |
| Package: transite |
| Version: 1.0.2 |
| Command: /home/biocbuild/bbs-3.8-bioc/R/bin/R CMD check --install=check:transite.install-out.txt --library=/home/biocbuild/bbs-3.8-bioc/R/library --no-vignettes --timings transite_1.0.2.tar.gz |
| StartedAt: 2019-04-16 03:29:04 -0400 (Tue, 16 Apr 2019) |
| EndedAt: 2019-04-16 03:32:44 -0400 (Tue, 16 Apr 2019) |
| EllapsedTime: 220.0 seconds |
| RetCode: 0 |
| Status: OK |
| CheckDir: transite.Rcheck |
| Warnings: 0 |
##############################################################################
##############################################################################
###
### Running command:
###
### /home/biocbuild/bbs-3.8-bioc/R/bin/R CMD check --install=check:transite.install-out.txt --library=/home/biocbuild/bbs-3.8-bioc/R/library --no-vignettes --timings transite_1.0.2.tar.gz
###
##############################################################################
##############################################################################
* using log directory ‘/home/biocbuild/bbs-3.8-bioc/meat/transite.Rcheck’
* using R version 3.5.3 (2019-03-11)
* using platform: x86_64-pc-linux-gnu (64-bit)
* using session charset: UTF-8
* using option ‘--no-vignettes’
* checking for file ‘transite/DESCRIPTION’ ... OK
* this is package ‘transite’ version ‘1.0.2’
* package encoding: UTF-8
* checking package namespace information ... OK
* checking package dependencies ... OK
* checking if this is a source package ... OK
* checking if there is a namespace ... OK
* checking for hidden files and directories ... OK
* checking for portable file names ... OK
* checking for sufficient/correct file permissions ... OK
* checking whether package ‘transite’ can be installed ... OK
* checking installed package size ... OK
* checking package directory ... OK
* checking ‘build’ directory ... OK
* checking DESCRIPTION meta-information ... OK
* checking top-level files ... OK
* checking for left-over files ... OK
* checking index information ... OK
* checking package subdirectories ... OK
* checking R files for non-ASCII characters ... OK
* checking R files for syntax errors ... OK
* checking whether the package can be loaded ... OK
* checking whether the package can be loaded with stated dependencies ... OK
* checking whether the package can be unloaded cleanly ... OK
* checking whether the namespace can be loaded with stated dependencies ... OK
* checking whether the namespace can be unloaded cleanly ... OK
* checking dependencies in R code ... OK
* checking S3 generic/method consistency ... OK
* checking replacement functions ... OK
* checking foreign function calls ... OK
* checking R code for possible problems ... OK
* checking Rd files ... OK
* checking Rd metadata ... OK
* checking Rd cross-references ... OK
* checking for missing documentation entries ... OK
* checking for code/documentation mismatches ... OK
* checking Rd \usage sections ... OK
* checking Rd contents ... OK
* checking for unstated dependencies in examples ... OK
* checking contents of ‘data’ directory ... OK
* checking data for non-ASCII characters ... OK
* checking data for ASCII and uncompressed saves ... OK
* checking line endings in C/C++/Fortran sources/headers ... OK
* checking compiled code ... NOTE
Note: information on .o files is not available
* checking files in ‘vignettes’ ... OK
* checking examples ... OK
Examples with CPU or elapsed time > 5s
user system elapsed
runKmerTSMA 53.520 0.000 53.606
runKmerSPMA 48.292 0.132 57.679
calculateKmerEnrichment 5.952 0.000 5.957
runMatrixSPMA 3.244 0.028 5.323
* checking for unstated dependencies in vignettes ... OK
* checking package vignettes in ‘inst/doc’ ... OK
* checking running R code from vignettes ... SKIPPED
* checking re-building of vignette outputs ... SKIPPED
* checking PDF version of manual ... OK
* DONE
Status: 1 NOTE
See
‘/home/biocbuild/bbs-3.8-bioc/meat/transite.Rcheck/00check.log’
for details.
transite.Rcheck/00install.out
############################################################################## ############################################################################## ### ### Running command: ### ### /home/biocbuild/bbs-3.8-bioc/R/bin/R CMD INSTALL transite ### ############################################################################## ############################################################################## * installing to library ‘/home/biocbuild/bbs-3.8-bioc/R/library’ * installing *source* package ‘transite’ ... ** libs g++ -std=gnu++11 -I"/home/biocbuild/bbs-3.8-bioc/R/include" -DNDEBUG -I"/home/biocbuild/bbs-3.8-bioc/R/library/Rcpp/include" -I/usr/local/include -fpic -g -O2 -Wall -c RcppExports.cpp -o RcppExports.o g++ -std=gnu++11 -I"/home/biocbuild/bbs-3.8-bioc/R/include" -DNDEBUG -I"/home/biocbuild/bbs-3.8-bioc/R/library/Rcpp/include" -I/usr/local/include -fpic -g -O2 -Wall -c scoring.cpp -o scoring.o g++ -std=gnu++11 -shared -L/home/biocbuild/bbs-3.8-bioc/R/lib -L/usr/local/lib -o transite.so RcppExports.o scoring.o -L/home/biocbuild/bbs-3.8-bioc/R/lib -lR installing to /home/biocbuild/bbs-3.8-bioc/R/library/transite/libs ** R ** data ** inst ** byte-compile and prepare package for lazy loading ** help *** installing help indices ** building package indices ** installing vignettes ** testing if installed package can be loaded * DONE (transite)
transite.Rcheck/transite-Ex.timings
| name | user | system | elapsed | |
| RBPMotif-class | 0.000 | 0.004 | 0.007 | |
| SpectrumScore-class | 0.000 | 0.000 | 0.002 | |
| calculateKmerEnrichment | 5.952 | 0.000 | 5.957 | |
| calculateKmerScores | 0.000 | 0.000 | 0.002 | |
| calculateLocalConsistency | 0.488 | 0.008 | 0.494 | |
| calculateMotifEnrichment | 1.116 | 0.004 | 1.120 | |
| calculateTranscriptMC | 0.008 | 0.000 | 0.005 | |
| checkKmers | 0 | 0 | 0 | |
| computeKmerEnrichment | 2.644 | 0.016 | 2.663 | |
| createKmerMotif | 0.000 | 0.000 | 0.003 | |
| createMatrixMotif | 0.004 | 0.000 | 0.003 | |
| drawVolcanoPlot | 0.432 | 0.012 | 0.443 | |
| empiricalEnrichmentMeanCDF | 0.004 | 0.000 | 0.003 | |
| generateIUPACByKmers | 0 | 0 | 0 | |
| generateIUPACByMatrix | 0.004 | 0.000 | 0.002 | |
| generateKmers | 0.412 | 0.000 | 0.414 | |
| generateKmersFromIUPAC | 0.000 | 0.000 | 0.002 | |
| geometricMean | 0.000 | 0.000 | 0.001 | |
| getMotifById | 0.000 | 0.000 | 0.003 | |
| getMotifByRBP | 0.008 | 0.000 | 0.004 | |
| getMotifs | 0 | 0 | 0 | |
| getPPM | 0.004 | 0.000 | 0.005 | |
| initIUPAClookupTable | 0.004 | 0.000 | 0.002 | |
| motifsMetaInfo | 0.012 | 0.004 | 0.016 | |
| pCombine | 0 | 0 | 0 | |
| runKmerSPMA | 48.292 | 0.132 | 57.679 | |
| runKmerTSMA | 53.520 | 0.000 | 53.606 | |
| runMatrixSPMA | 3.244 | 0.028 | 5.323 | |
| runMatrixTSMA | 0.016 | 0.000 | 0.017 | |
| scoreSequences | 0.008 | 0.000 | 0.007 | |
| scoreSpectrum | 1.396 | 0.012 | 1.411 | |
| scoreTranscripts | 0.008 | 0.000 | 0.006 | |
| setMotifs | 0.000 | 0.000 | 0.002 | |
| spectrumClassifier | 0.868 | 0.004 | 0.876 | |
| subdivideData | 0.000 | 0.000 | 0.003 | |