| Back to Multiple platform build/check report for BioC 3.8 |
|
This page was generated on 2019-04-16 11:53:07 -0400 (Tue, 16 Apr 2019).
| Package 1572/1649 | Hostname | OS / Arch | INSTALL | BUILD | CHECK | BUILD BIN | ||||||
| topdownr 1.4.1 Sebastian Gibb
| malbec1 | Linux (Ubuntu 16.04.6 LTS) / x86_64 | OK | OK | [ OK ] | |||||||
| merida1 | OS X 10.11.6 El Capitan / x86_64 | OK | OK | OK | OK |
| Package: topdownr |
| Version: 1.4.1 |
| Command: /home/biocbuild/bbs-3.8-bioc/R/bin/R CMD check --install=check:topdownr.install-out.txt --library=/home/biocbuild/bbs-3.8-bioc/R/library --no-vignettes --timings topdownr_1.4.1.tar.gz |
| StartedAt: 2019-04-16 03:27:31 -0400 (Tue, 16 Apr 2019) |
| EndedAt: 2019-04-16 03:30:35 -0400 (Tue, 16 Apr 2019) |
| EllapsedTime: 183.7 seconds |
| RetCode: 0 |
| Status: OK |
| CheckDir: topdownr.Rcheck |
| Warnings: 0 |
############################################################################## ############################################################################## ### ### Running command: ### ### /home/biocbuild/bbs-3.8-bioc/R/bin/R CMD check --install=check:topdownr.install-out.txt --library=/home/biocbuild/bbs-3.8-bioc/R/library --no-vignettes --timings topdownr_1.4.1.tar.gz ### ############################################################################## ############################################################################## * using log directory ‘/home/biocbuild/bbs-3.8-bioc/meat/topdownr.Rcheck’ * using R version 3.5.3 (2019-03-11) * using platform: x86_64-pc-linux-gnu (64-bit) * using session charset: UTF-8 * using option ‘--no-vignettes’ * checking for file ‘topdownr/DESCRIPTION’ ... OK * this is package ‘topdownr’ version ‘1.4.1’ * package encoding: UTF-8 * checking package namespace information ... OK * checking package dependencies ... OK * checking if this is a source package ... OK * checking if there is a namespace ... OK * checking for hidden files and directories ... NOTE Found the following hidden files and directories: .BBSoptions These were most likely included in error. See section ‘Package structure’ in the ‘Writing R Extensions’ manual. * checking for portable file names ... OK * checking for sufficient/correct file permissions ... OK * checking whether package ‘topdownr’ can be installed ... OK * checking installed package size ... OK * checking package directory ... OK * checking ‘build’ directory ... OK * checking DESCRIPTION meta-information ... OK * checking top-level files ... OK * checking for left-over files ... OK * checking index information ... OK * checking package subdirectories ... OK * checking R files for non-ASCII characters ... OK * checking R files for syntax errors ... OK * checking whether the package can be loaded ... OK * checking whether the package can be loaded with stated dependencies ... OK * checking whether the package can be unloaded cleanly ... OK * checking whether the namespace can be loaded with stated dependencies ... OK * checking whether the namespace can be unloaded cleanly ... OK * checking dependencies in R code ... OK * checking S3 generic/method consistency ... OK * checking replacement functions ... OK * checking foreign function calls ... OK * checking R code for possible problems ... OK * checking Rd files ... OK * checking Rd metadata ... OK * checking Rd cross-references ... OK * checking for missing documentation entries ... OK * checking for code/documentation mismatches ... OK * checking Rd \usage sections ... OK * checking Rd contents ... OK * checking for unstated dependencies in examples ... OK * checking contents of ‘data’ directory ... OK * checking data for non-ASCII characters ... OK * checking data for ASCII and uncompressed saves ... OK * checking line endings in Makefiles ... OK * checking for GNU extensions in Makefiles ... OK * checking include directives in Makefiles ... OK * checking files in ‘vignettes’ ... OK * checking examples ... OK * checking for unstated dependencies in ‘tests’ ... OK * checking tests ... Running ‘testthat.R’ OK * checking for unstated dependencies in vignettes ... OK * checking package vignettes in ‘inst/doc’ ... OK * checking running R code from vignettes ... SKIPPED * checking re-building of vignette outputs ... SKIPPED * checking PDF version of manual ... OK * DONE Status: 1 NOTE See ‘/home/biocbuild/bbs-3.8-bioc/meat/topdownr.Rcheck/00check.log’ for details.
topdownr.Rcheck/00install.out
############################################################################## ############################################################################## ### ### Running command: ### ### /home/biocbuild/bbs-3.8-bioc/R/bin/R CMD INSTALL topdownr ### ############################################################################## ############################################################################## * installing to library ‘/home/biocbuild/bbs-3.8-bioc/R/library’ * installing *source* package ‘topdownr’ ... ** R ** data *** moving datasets to lazyload DB ** inst ** byte-compile and prepare package for lazy loading ** help *** installing help indices ** building package indices ** installing vignettes ** testing if installed package can be loaded * DONE (topdownr)
topdownr.Rcheck/tests/testthat.Rout
R version 3.5.3 (2019-03-11) -- "Great Truth"
Copyright (C) 2019 The R Foundation for Statistical Computing
Platform: x86_64-pc-linux-gnu (64-bit)
R is free software and comes with ABSOLUTELY NO WARRANTY.
You are welcome to redistribute it under certain conditions.
Type 'license()' or 'licence()' for distribution details.
R is a collaborative project with many contributors.
Type 'contributors()' for more information and
'citation()' on how to cite R or R packages in publications.
Type 'demo()' for some demos, 'help()' for on-line help, or
'help.start()' for an HTML browser interface to help.
Type 'q()' to quit R.
> library("testthat")
> library("topdownr")
Loading required package: BiocGenerics
Loading required package: parallel
Attaching package: 'BiocGenerics'
The following objects are masked from 'package:parallel':
clusterApply, clusterApplyLB, clusterCall, clusterEvalQ,
clusterExport, clusterMap, parApply, parCapply, parLapply,
parLapplyLB, parRapply, parSapply, parSapplyLB
The following objects are masked from 'package:stats':
IQR, mad, sd, var, xtabs
The following objects are masked from 'package:base':
Filter, Find, Map, Position, Reduce, anyDuplicated, append,
as.data.frame, basename, cbind, colMeans, colSums, colnames,
dirname, do.call, duplicated, eval, evalq, get, grep, grepl,
intersect, is.unsorted, lapply, lengths, mapply, match, mget,
order, paste, pmax, pmax.int, pmin, pmin.int, rank, rbind,
rowMeans, rowSums, rownames, sapply, setdiff, sort, table, tapply,
union, unique, unsplit, which, which.max, which.min
Loading required package: ProtGenerics
Loading required package: Biostrings
Loading required package: S4Vectors
Loading required package: stats4
Attaching package: 'S4Vectors'
The following object is masked from 'package:base':
expand.grid
Loading required package: IRanges
Loading required package: XVector
Attaching package: 'Biostrings'
The following object is masked from 'package:base':
strsplit
This is topdownr version 1.4.1
Visit https://sgibb.github.io/topdownr/ to get started.
>
> test_check("topdownr")
══ testthat results ═══════════════════════════════════════════════════════════
OK: 550 SKIPPED: 0 FAILED: 0
>
> proc.time()
user system elapsed
19.124 0.280 19.429
topdownr.Rcheck/topdownr-Ex.timings
| name | user | system | elapsed | |
| AbstractTopDownSet-class | 0.732 | 0.020 | 0.755 | |
| FragmentViews-class | 0.100 | 0.004 | 0.106 | |
| NCBSet-class | 3.008 | 0.048 | 3.059 | |
| TopDownSet-class | 0.836 | 0.008 | 0.842 | |
| default-functions | 0.004 | 0.000 | 0.002 | |
| readTopDownFiles | 1.720 | 0.024 | 1.804 | |
| windows-specific-functions | 0 | 0 | 0 | |
| writeMethodXmls | 1.500 | 0.460 | 1.963 | |