| Back to Multiple platform build/check report for BioC 3.8 |
|
This page was generated on 2019-04-13 11:27:06 -0400 (Sat, 13 Apr 2019).
| Package 1539/1649 | Hostname | OS / Arch | INSTALL | BUILD | CHECK | BUILD BIN | ||||||
| synergyfinder 1.8.0 Liye He
| malbec1 | Linux (Ubuntu 16.04.6 LTS) / x86_64 | OK | OK | NA | |||||||
| tokay1 | Windows Server 2012 R2 Standard / x64 | OK | OK | OK | [ OK ] | |||||||
| merida1 | OS X 10.11.6 El Capitan / x86_64 | OK | OK | OK | OK |
| Package: synergyfinder |
| Version: 1.8.0 |
| Command: rm -rf synergyfinder.buildbin-libdir && mkdir synergyfinder.buildbin-libdir && C:\Users\biocbuild\bbs-3.8-bioc\R\bin\R.exe CMD INSTALL --merge-multiarch --build --library=synergyfinder.buildbin-libdir synergyfinder_1.8.0.tar.gz |
| StartedAt: 2019-04-13 08:00:46 -0400 (Sat, 13 Apr 2019) |
| EndedAt: 2019-04-13 08:00:55 -0400 (Sat, 13 Apr 2019) |
| EllapsedTime: 9.2 seconds |
| RetCode: 0 |
| Status: OK |
| PackageFile: synergyfinder_1.8.0.zip |
| PackageFileSize: 353.6 KiB |
##############################################################################
##############################################################################
###
### Running command:
###
### rm -rf synergyfinder.buildbin-libdir && mkdir synergyfinder.buildbin-libdir && C:\Users\biocbuild\bbs-3.8-bioc\R\bin\R.exe CMD INSTALL --merge-multiarch --build --library=synergyfinder.buildbin-libdir synergyfinder_1.8.0.tar.gz
###
##############################################################################
##############################################################################
install for i386
* installing *source* package 'synergyfinder' ...
** R
** data
*** moving datasets to lazyload DB
** inst
** byte-compile and prepare package for lazy loading
** help
*** installing help indices
converting help for package 'synergyfinder'
finding HTML links ... done
BaselineCorrectionSD html
Bliss html
CalculateSynergy html
FittingSingleDrug html
HSA html
Loewe html
PlotDoseResponse html
PlotSynergy html
ReshapeData html
ZIP html
mathews_screening_data html
** building package indices
** installing vignettes
** testing if installed package can be loaded
In R CMD INSTALL
install for x64
* installing *source* package 'synergyfinder' ...
** testing if installed package can be loaded
* MD5 sums
packaged installation of 'synergyfinder' as synergyfinder_1.8.0.zip
* DONE (synergyfinder)
In R CMD INSTALL
In R CMD INSTALL