| Back to Multiple platform build/check report for BioC 3.8 |
|
This page was generated on 2019-03-18 11:29:15 -0400 (Mon, 18 Mar 2019).
| Package 1538/1649 | Hostname | OS / Arch | INSTALL | BUILD | CHECK | ||||||
| synapter 2.6.1 Laurent Gatto
| malbec1 | Linux (Ubuntu 16.04.6 LTS) / x86_64 | OK | OK | OK | ||||||
| tokay1 | Windows Server 2012 R2 Standard / x64 | OK | OK | WARNINGS | |||||||
| merida1 | OS X 10.11.6 El Capitan / x86_64 | OK | OK | [ OK ] |
| Package: synapter |
| Version: 2.6.1 |
| Command: /Library/Frameworks/R.framework/Versions/Current/Resources/bin/R CMD check --install=check:synapter.install-out.txt --library=/Library/Frameworks/R.framework/Versions/Current/Resources/library --no-vignettes --timings synapter_2.6.1.tar.gz |
| StartedAt: 2019-03-18 03:11:16 -0400 (Mon, 18 Mar 2019) |
| EndedAt: 2019-03-18 03:15:02 -0400 (Mon, 18 Mar 2019) |
| EllapsedTime: 225.4 seconds |
| RetCode: 0 |
| Status: OK |
| CheckDir: synapter.Rcheck |
| Warnings: 0 |
##############################################################################
##############################################################################
###
### Running command:
###
### /Library/Frameworks/R.framework/Versions/Current/Resources/bin/R CMD check --install=check:synapter.install-out.txt --library=/Library/Frameworks/R.framework/Versions/Current/Resources/library --no-vignettes --timings synapter_2.6.1.tar.gz
###
##############################################################################
##############################################################################
* using log directory ‘/Users/biocbuild/bbs-3.8-bioc/meat/synapter.Rcheck’
* using R version 3.5.2 Patched (2018-12-20 r75875)
* using platform: x86_64-apple-darwin15.6.0 (64-bit)
* using session charset: UTF-8
* using option ‘--no-vignettes’
* checking for file ‘synapter/DESCRIPTION’ ... OK
* checking extension type ... Package
* this is package ‘synapter’ version ‘2.6.1’
* checking package namespace information ... OK
* checking package dependencies ... OK
* checking if this is a source package ... OK
* checking if there is a namespace ... OK
* checking for hidden files and directories ... OK
* checking for portable file names ... OK
* checking for sufficient/correct file permissions ... OK
* checking whether package ‘synapter’ can be installed ... OK
* checking installed package size ... OK
* checking package directory ... OK
* checking ‘build’ directory ... OK
* checking DESCRIPTION meta-information ... NOTE
Authors@R field gives more than one person with maintainer role:
Laurent Gatto <lg390@cam.ac.uk> [aut, cre]
Sebastian Gibb <mail@sebastiangibb.de> [aut, cre]
* checking top-level files ... OK
* checking for left-over files ... OK
* checking index information ... OK
* checking package subdirectories ... OK
* checking R files for non-ASCII characters ... OK
* checking R files for syntax errors ... OK
* checking whether the package can be loaded ... OK
* checking whether the package can be loaded with stated dependencies ... OK
* checking whether the package can be unloaded cleanly ... OK
* checking whether the namespace can be loaded with stated dependencies ... OK
* checking whether the namespace can be unloaded cleanly ... OK
* checking dependencies in R code ... NOTE
Unexported objects imported by ':::' calls:
‘MSnbase:::.plotSingleSpectrum’ ‘MSnbase:::Spectrum2_mz_sorted’
‘MSnbase:::commonPeaks’ ‘MSnbase:::numberOfCommonPeaks’
‘MSnbase:::relaxedMatch’ ‘MSnbase:::utils.list2ssv’
‘MSnbase:::utils.ssv2list’ ‘MSnbase:::utils.ssv2vec’
‘MSnbase:::utils.vec2ssv’
See the note in ?`:::` about the use of this operator.
* checking S3 generic/method consistency ... OK
* checking replacement functions ... OK
* checking foreign function calls ... OK
* checking R code for possible problems ... OK
* checking Rd files ... OK
* checking Rd metadata ... OK
* checking Rd cross-references ... OK
* checking for missing documentation entries ... OK
* checking for code/documentation mismatches ... OK
* checking Rd \usage sections ... OK
* checking Rd contents ... OK
* checking for unstated dependencies in examples ... OK
* checking contents of ‘data’ directory ... OK
* checking data for non-ASCII characters ... OK
* checking data for ASCII and uncompressed saves ... OK
* checking installed files from ‘inst/doc’ ... OK
* checking files in ‘vignettes’ ... OK
* checking examples ... OK
Examples with CPU or elapsed time > 5s
user system elapsed
synergise 16.108 1.621 17.647
Synapter 5.504 0.263 5.842
* checking for unstated dependencies in ‘tests’ ... OK
* checking tests ...
Running ‘testthat.R’
OK
* checking for unstated dependencies in vignettes ... OK
* checking package vignettes in ‘inst/doc’ ... OK
* checking running R code from vignettes ... SKIPPED
* checking re-building of vignette outputs ... SKIPPED
* checking PDF version of manual ... OK
* DONE
Status: 2 NOTEs
See
‘/Users/biocbuild/bbs-3.8-bioc/meat/synapter.Rcheck/00check.log’
for details.
synapter.Rcheck/00install.out
############################################################################## ############################################################################## ### ### Running command: ### ### /Library/Frameworks/R.framework/Versions/Current/Resources/bin/R CMD INSTALL synapter ### ############################################################################## ############################################################################## * installing to library ‘/Library/Frameworks/R.framework/Versions/3.5/Resources/library’ * installing *source* package ‘synapter’ ... ** R ** data ** inst ** byte-compile and prepare package for lazy loading ** help *** installing help indices ** building package indices ** installing vignettes ‘fragmentmatching.Rmd’ using ‘UTF-8’ ‘synapter.Rmd’ using ‘UTF-8’ ‘synapter2.Rmd’ using ‘UTF-8’ ** testing if installed package can be loaded * DONE (synapter)
synapter.Rcheck/tests/testthat.Rout
R version 3.5.2 Patched (2018-12-20 r75875) -- "Eggshell Igloo"
Copyright (C) 2018 The R Foundation for Statistical Computing
Platform: x86_64-apple-darwin15.6.0 (64-bit)
R is free software and comes with ABSOLUTELY NO WARRANTY.
You are welcome to redistribute it under certain conditions.
Type 'license()' or 'licence()' for distribution details.
R is a collaborative project with many contributors.
Type 'contributors()' for more information and
'citation()' on how to cite R or R packages in publications.
Type 'demo()' for some demos, 'help()' for on-line help, or
'help.start()' for an HTML browser interface to help.
Type 'q()' to quit R.
> library(testthat)
> library(synapter)
Loading required package: MSnbase
Loading required package: BiocGenerics
Loading required package: parallel
Attaching package: 'BiocGenerics'
The following objects are masked from 'package:parallel':
clusterApply, clusterApplyLB, clusterCall, clusterEvalQ,
clusterExport, clusterMap, parApply, parCapply, parLapply,
parLapplyLB, parRapply, parSapply, parSapplyLB
The following objects are masked from 'package:stats':
IQR, mad, sd, var, xtabs
The following objects are masked from 'package:base':
Filter, Find, Map, Position, Reduce, anyDuplicated, append,
as.data.frame, basename, cbind, colMeans, colSums, colnames,
dirname, do.call, duplicated, eval, evalq, get, grep, grepl,
intersect, is.unsorted, lapply, lengths, mapply, match, mget,
order, paste, pmax, pmax.int, pmin, pmin.int, rank, rbind,
rowMeans, rowSums, rownames, sapply, setdiff, sort, table, tapply,
union, unique, unsplit, which, which.max, which.min
Loading required package: Biobase
Welcome to Bioconductor
Vignettes contain introductory material; view with
'browseVignettes()'. To cite Bioconductor, see
'citation("Biobase")', and for packages 'citation("pkgname")'.
Loading required package: mzR
Loading required package: Rcpp
Loading required package: S4Vectors
Loading required package: stats4
Attaching package: 'S4Vectors'
The following object is masked from 'package:base':
expand.grid
Loading required package: ProtGenerics
This is MSnbase version 2.8.3
Visit https://lgatto.github.io/MSnbase/ to get started.
Attaching package: 'MSnbase'
The following object is masked from 'package:stats':
smooth
The following object is masked from 'package:base':
trimws
This is the 'synapter' version 2.6.1.
Read '?synapter' to get started.
>
> test_check("synapter")
══ testthat results ═══════════════════════════════════════════════════════════
OK: 78 SKIPPED: 0 FAILED: 0
>
> proc.time()
user system elapsed
10.053 0.484 10.613
synapter.Rcheck/synapter-Ex.timings
| name | user | system | elapsed | |
| MasterFdrResults-class | 0 | 0 | 0 | |
| Synapter | 5.504 | 0.263 | 5.842 | |
| createUniquePeptideDbRds | 0 | 0 | 0 | |
| synapterTinyData | 0.187 | 0.011 | 0.201 | |
| synergise | 16.108 | 1.621 | 17.647 | |
| synergise2 | 0.001 | 0.000 | 0.002 | |