| Back to Multiple platform build/check report for BioC 3.8 |
|
This page was generated on 2019-04-13 11:23:07 -0400 (Sat, 13 Apr 2019).
| Package 1526/1649 | Hostname | OS / Arch | INSTALL | BUILD | CHECK | BUILD BIN | ||||||
| supraHex 1.20.0 Hai Fang
| malbec1 | Linux (Ubuntu 16.04.6 LTS) / x86_64 | OK | OK | NA | |||||||
| tokay1 | Windows Server 2012 R2 Standard / x64 | [ OK ] | OK | OK | OK | |||||||
| merida1 | OS X 10.11.6 El Capitan / x86_64 | OK | OK | OK | OK |
| Package: supraHex |
| Version: 1.20.0 |
| Command: C:\cygwin\bin\curl.exe -O https://malbec1.bioconductor.org/BBS/3.8/bioc/src/contrib/supraHex_1.20.0.tar.gz && rm -rf supraHex.buildbin-libdir && mkdir supraHex.buildbin-libdir && C:\Users\biocbuild\bbs-3.8-bioc\R\bin\R.exe CMD INSTALL --merge-multiarch --build --library=supraHex.buildbin-libdir supraHex_1.20.0.tar.gz && C:\Users\biocbuild\bbs-3.8-bioc\R\bin\R.exe CMD INSTALL supraHex_1.20.0.zip && rm supraHex_1.20.0.tar.gz supraHex_1.20.0.zip |
| StartedAt: 2019-04-12 18:54:40 -0400 (Fri, 12 Apr 2019) |
| EndedAt: 2019-04-12 18:56:05 -0400 (Fri, 12 Apr 2019) |
| EllapsedTime: 84.9 seconds |
| RetCode: 0 |
| Status: OK |
##############################################################################
##############################################################################
###
### Running command:
###
### C:\cygwin\bin\curl.exe -O https://malbec1.bioconductor.org/BBS/3.8/bioc/src/contrib/supraHex_1.20.0.tar.gz && rm -rf supraHex.buildbin-libdir && mkdir supraHex.buildbin-libdir && C:\Users\biocbuild\bbs-3.8-bioc\R\bin\R.exe CMD INSTALL --merge-multiarch --build --library=supraHex.buildbin-libdir supraHex_1.20.0.tar.gz && C:\Users\biocbuild\bbs-3.8-bioc\R\bin\R.exe CMD INSTALL supraHex_1.20.0.zip && rm supraHex_1.20.0.tar.gz supraHex_1.20.0.zip
###
##############################################################################
##############################################################################
% Total % Received % Xferd Average Speed Time Time Time Current
Dload Upload Total Spent Left Speed
0 0 0 0 0 0 0 0 --:--:-- --:--:-- --:--:-- 0
100 3830k 100 3830k 0 0 45.3M 0 --:--:-- --:--:-- --:--:-- 47.3M
install for i386
* installing *source* package 'supraHex' ...
** R
** data
** inst
** byte-compile and prepare package for lazy loading
** help
*** installing help indices
converting help for package 'supraHex'
finding HTML links ... done
Fang html
Golub html
Xiang html
sBMH html
sCompReorder html
sDistance html
sDmat html
sDmatCluster html
sDmatMinima html
sHexDist html
sHexGrid html
sHexGridVariant html
sHexPolygon html
sInitial html
sMapOverlay html
sNeighAny html
sNeighDirect html
sPipeline html
sTopology html
sTrainBatch html
sTrainSeq html
sTrainology html
sWriteData html
visColoralpha html
visColorbar html
visColormap html
visCompReorder html
visDmatCluster html
visDmatHeatmap html
visHeatmap html
visHeatmapAdv html
visHexAnimate html
visHexBarplot html
visHexComp html
visHexGrid html
visHexMapping html
visHexMulComp html
visHexPattern html
visKernels html
visTreeBSclust html
visTreeBootstrap html
visVp html
** building package indices
** installing vignettes
** testing if installed package can be loaded
In R CMD INSTALL
install for x64
* installing *source* package 'supraHex' ...
** testing if installed package can be loaded
* MD5 sums
packaged installation of 'supraHex' as supraHex_1.20.0.zip
* DONE (supraHex)
In R CMD INSTALL
In R CMD INSTALL
* installing to library 'C:/Users/biocbuild/bbs-3.8-bioc/R/library'
package 'supraHex' successfully unpacked and MD5 sums checked
In R CMD INSTALL