| Back to Multiple platform build/check report for BioC 3.8 |
|
This page was generated on 2019-04-13 11:28:47 -0400 (Sat, 13 Apr 2019).
| Package 1504/1649 | Hostname | OS / Arch | INSTALL | BUILD | CHECK | BUILD BIN | ||||||
| srnadiff 1.2.1 Matthias Zytnicki
| malbec1 | Linux (Ubuntu 16.04.6 LTS) / x86_64 | OK | OK | NA | |||||||
| tokay1 | Windows Server 2012 R2 Standard / x64 | OK | OK | OK | [ OK ] | |||||||
| merida1 | OS X 10.11.6 El Capitan / x86_64 | OK | OK | OK | OK |
| Package: srnadiff |
| Version: 1.2.1 |
| Command: rm -rf srnadiff.buildbin-libdir && mkdir srnadiff.buildbin-libdir && C:\Users\biocbuild\bbs-3.8-bioc\R\bin\R.exe CMD INSTALL --merge-multiarch --build --library=srnadiff.buildbin-libdir srnadiff_1.2.1.tar.gz |
| StartedAt: 2019-04-13 07:59:42 -0400 (Sat, 13 Apr 2019) |
| EndedAt: 2019-04-13 08:01:07 -0400 (Sat, 13 Apr 2019) |
| EllapsedTime: 85.3 seconds |
| RetCode: 0 |
| Status: OK |
| PackageFile: srnadiff_1.2.1.zip |
| PackageFileSize: 2.69 MiB |
##############################################################################
##############################################################################
###
### Running command:
###
### rm -rf srnadiff.buildbin-libdir && mkdir srnadiff.buildbin-libdir && C:\Users\biocbuild\bbs-3.8-bioc\R\bin\R.exe CMD INSTALL --merge-multiarch --build --library=srnadiff.buildbin-libdir srnadiff_1.2.1.tar.gz
###
##############################################################################
##############################################################################
install for i386
* installing *source* package 'srnadiff' ...
** libs
C:/Rtools/mingw_32/bin/g++ -std=gnu++11 -I"C:/Users/BIOCBU˜1/BBS-3˜1.8-B/R/include" -DNDEBUG -I"C:/Users/biocbuild/bbs-3.8-bioc/R/library/Rcpp/include" -I"C:/extsoft/include" -O2 -Wall -mtune=generic -c RcppExports.cpp -o RcppExports.o
C:/Rtools/mingw_32/bin/g++ -std=gnu++11 -I"C:/Users/BIOCBU˜1/BBS-3˜1.8-B/R/include" -DNDEBUG -I"C:/Users/biocbuild/bbs-3.8-bioc/R/library/Rcpp/include" -I"C:/extsoft/include" -O2 -Wall -mtune=generic -c rcpp_hmm.cpp -o rcpp_hmm.o
C:/Rtools/mingw_32/bin/g++ -std=gnu++11 -I"C:/Users/BIOCBU˜1/BBS-3˜1.8-B/R/include" -DNDEBUG -I"C:/Users/biocbuild/bbs-3.8-bioc/R/library/Rcpp/include" -I"C:/extsoft/include" -O2 -Wall -mtune=generic -c rcpp_naive.cpp -o rcpp_naive.o
rcpp_naive.cpp: In function 'Rcpp::DataFrame rcpp_naive(Rcpp::ListOf<Rcpp::ListOf<Rcpp::Vector<13> > >&, Rcpp::ListOf<Rcpp::ListOf<Rcpp::Vector<13> > >&, Rcpp::IntegerVector&, int, int, int)':
rcpp_naive.cpp:80:13: warning: 'start' may be used uninitialized in this function [-Wmaybe-uninitialized]
if (addElement(start, iterator.getPosition(), chromosome, starts,
^
C:/Rtools/mingw_32/bin/g++ -std=gnu++11 -I"C:/Users/BIOCBU˜1/BBS-3˜1.8-B/R/include" -DNDEBUG -I"C:/Users/biocbuild/bbs-3.8-bioc/R/library/Rcpp/include" -I"C:/extsoft/include" -O2 -Wall -mtune=generic -c rcpp_slice.cpp -o rcpp_slice.o
C:/Rtools/mingw_32/bin/g++ -std=gnu++11 -I"C:/Users/BIOCBU˜1/BBS-3˜1.8-B/R/include" -DNDEBUG -I"C:/Users/biocbuild/bbs-3.8-bioc/R/library/Rcpp/include" -I"C:/extsoft/include" -O2 -Wall -mtune=generic -c rcpp_utils.cpp -o rcpp_utils.o
C:/Rtools/mingw_32/bin/gcc -I"C:/Users/BIOCBU˜1/BBS-3˜1.8-B/R/include" -DNDEBUG -I"C:/Users/biocbuild/bbs-3.8-bioc/R/library/Rcpp/include" -I"C:/extsoft/include" -O3 -Wall -std=gnu99 -mtune=generic -c srnadiff_init.c -o srnadiff_init.o
C:/Rtools/mingw_32/bin/g++ -shared -s -static-libgcc -o srnadiff.dll tmp.def RcppExports.o rcpp_hmm.o rcpp_naive.o rcpp_slice.o rcpp_utils.o srnadiff_init.o -LC:/extsoft/lib/i386 -LC:/extsoft/lib -LC:/Users/BIOCBU˜1/BBS-3˜1.8-B/R/bin/i386 -lR
installing to C:/Users/biocbuild/bbs-3.8-bioc/meat/srnadiff.buildbin-libdir/srnadiff/libs/i386
** R
** inst
** byte-compile and prepare package for lazy loading
** help
*** installing help indices
converting help for package 'srnadiff'
finding HTML links ... done
buildDataHmm html
computePvalues html
plotRegion html
rcpp_buildHmm html
rcpp_naive html
rcpp_normalization html
rcpp_slice html
rcpp_viterbi html
readAnnotation html
readMiRBaseMatureAnnotation html
readMiRBasePreAnnotation html
readWholeGenomeAnnotation html
regions-method html
runAll html
runAllAnnotation html
runAllHmm html
runAllNaive html
runAllSlice html
runHmm html
runSlice html
sRNADiff-class html
sRNADiffExample html
sRNADiffExp html
setEmissionProbabilities-method html
setEmissionThreshold-method html
setMergeDistance-method html
setMinDepth-method html
setMinDifferences-method html
setMinOverlap-method html
setNThreads-method html
setSizes-method html
setStrategies-method html
setTransitionProbabilities-method html
show-sRNADiff-method html
srnadiff html
** building package indices
** installing vignettes
** testing if installed package can be loaded
In R CMD INSTALL
install for x64
* installing *source* package 'srnadiff' ...
** libs
C:/Rtools/mingw_64/bin/g++ -std=gnu++11 -I"C:/Users/BIOCBU˜1/BBS-3˜1.8-B/R/include" -DNDEBUG -I"C:/Users/biocbuild/bbs-3.8-bioc/R/library/Rcpp/include" -I"C:/extsoft/include" -O2 -Wall -mtune=generic -c RcppExports.cpp -o RcppExports.o
C:/Rtools/mingw_64/bin/g++ -std=gnu++11 -I"C:/Users/BIOCBU˜1/BBS-3˜1.8-B/R/include" -DNDEBUG -I"C:/Users/biocbuild/bbs-3.8-bioc/R/library/Rcpp/include" -I"C:/extsoft/include" -O2 -Wall -mtune=generic -c rcpp_hmm.cpp -o rcpp_hmm.o
C:/Rtools/mingw_64/bin/g++ -std=gnu++11 -I"C:/Users/BIOCBU˜1/BBS-3˜1.8-B/R/include" -DNDEBUG -I"C:/Users/biocbuild/bbs-3.8-bioc/R/library/Rcpp/include" -I"C:/extsoft/include" -O2 -Wall -mtune=generic -c rcpp_naive.cpp -o rcpp_naive.o
rcpp_naive.cpp: In function 'Rcpp::DataFrame rcpp_naive(Rcpp::ListOf<Rcpp::ListOf<Rcpp::Vector<13> > >&, Rcpp::ListOf<Rcpp::ListOf<Rcpp::Vector<13> > >&, Rcpp::IntegerVector&, int, int, int)':
rcpp_naive.cpp:80:13: warning: 'start' may be used uninitialized in this function [-Wmaybe-uninitialized]
if (addElement(start, iterator.getPosition(), chromosome, starts,
^
C:/Rtools/mingw_64/bin/g++ -std=gnu++11 -I"C:/Users/BIOCBU˜1/BBS-3˜1.8-B/R/include" -DNDEBUG -I"C:/Users/biocbuild/bbs-3.8-bioc/R/library/Rcpp/include" -I"C:/extsoft/include" -O2 -Wall -mtune=generic -c rcpp_slice.cpp -o rcpp_slice.o
C:/Rtools/mingw_64/bin/g++ -std=gnu++11 -I"C:/Users/BIOCBU˜1/BBS-3˜1.8-B/R/include" -DNDEBUG -I"C:/Users/biocbuild/bbs-3.8-bioc/R/library/Rcpp/include" -I"C:/extsoft/include" -O2 -Wall -mtune=generic -c rcpp_utils.cpp -o rcpp_utils.o
C:/Rtools/mingw_64/bin/gcc -I"C:/Users/BIOCBU˜1/BBS-3˜1.8-B/R/include" -DNDEBUG -I"C:/Users/biocbuild/bbs-3.8-bioc/R/library/Rcpp/include" -I"C:/extsoft/include" -O2 -Wall -std=gnu99 -mtune=generic -c srnadiff_init.c -o srnadiff_init.o
C:/Rtools/mingw_64/bin/g++ -shared -s -static-libgcc -o srnadiff.dll tmp.def RcppExports.o rcpp_hmm.o rcpp_naive.o rcpp_slice.o rcpp_utils.o srnadiff_init.o -LC:/extsoft/lib/x64 -LC:/extsoft/lib -LC:/Users/BIOCBU˜1/BBS-3˜1.8-B/R/bin/x64 -lR
installing to C:/Users/biocbuild/bbs-3.8-bioc/meat/srnadiff.buildbin-libdir/srnadiff/libs/x64
** testing if installed package can be loaded
* MD5 sums
packaged installation of 'srnadiff' as srnadiff_1.2.1.zip
* DONE (srnadiff)
In R CMD INSTALL
In R CMD INSTALL